BEGIN:VCALENDAR
VERSION:2.0
PRODID:-//Caffè Lena - ECPv6.15.18//NONSGML v1.0//EN
CALSCALE:GREGORIAN
METHOD:PUBLISH
X-WR-CALNAME:Caffè Lena
X-ORIGINAL-URL:https://www.caffelena.org
X-WR-CALDESC:Events for Caffè Lena
REFRESH-INTERVAL;VALUE=DURATION:PT1H
X-Robots-Tag:noindex
X-PUBLISHED-TTL:PT1H
BEGIN:VTIMEZONE
TZID:America/New_York
BEGIN:DAYLIGHT
TZOFFSETFROM:-0500
TZOFFSETTO:-0400
TZNAME:EDT
DTSTART:20220313T070000
END:DAYLIGHT
BEGIN:STANDARD
TZOFFSETFROM:-0400
TZOFFSETTO:-0500
TZNAME:EST
DTSTART:20221106T060000
END:STANDARD
BEGIN:DAYLIGHT
TZOFFSETFROM:-0500
TZOFFSETTO:-0400
TZNAME:EDT
DTSTART:20230312T070000
END:DAYLIGHT
BEGIN:STANDARD
TZOFFSETFROM:-0400
TZOFFSETTO:-0500
TZNAME:EST
DTSTART:20231105T060000
END:STANDARD
BEGIN:DAYLIGHT
TZOFFSETFROM:-0500
TZOFFSETTO:-0400
TZNAME:EDT
DTSTART:20240310T070000
END:DAYLIGHT
BEGIN:STANDARD
TZOFFSETFROM:-0400
TZOFFSETTO:-0500
TZNAME:EST
DTSTART:20241103T060000
END:STANDARD
BEGIN:DAYLIGHT
TZOFFSETFROM:-0500
TZOFFSETTO:-0400
TZNAME:EDT
DTSTART:20250309T070000
END:DAYLIGHT
BEGIN:STANDARD
TZOFFSETFROM:-0400
TZOFFSETTO:-0500
TZNAME:EST
DTSTART:20251102T060000
END:STANDARD
BEGIN:DAYLIGHT
TZOFFSETFROM:-0500
TZOFFSETTO:-0400
TZNAME:EDT
DTSTART:20260308T070000
END:DAYLIGHT
BEGIN:STANDARD
TZOFFSETFROM:-0400
TZOFFSETTO:-0500
TZNAME:EST
DTSTART:20261101T060000
END:STANDARD
END:VTIMEZONE
BEGIN:VEVENT
DTSTART;TZID=America/New_York:20250109T100000
DTEND;TZID=America/New_York:20250109T123000
DTSTAMP:20260419T101646
CREATED:20250121T181620Z
LAST-MODIFIED:20250226T171231Z
UID:10003190-1736416800-1736425800@www.caffelena.org
SUMMARY:Guitar Workshops 10-12:15
DESCRIPTION:Jazz		\n\n		\n			Share:\n			\n								\n				\n					\n				\n\n				\n				\n					\n				\n\n				\n				\n					\n				\n\n				\n				\n					\n				\n			\n		\n\n	\n	\n	\n	\n	\n	\n	\n	\n	Guitar Workshops: Thursdays\, Jan. 9 through March 13 Max students per class 8\, $175 for 10 classes Guitar I – Beginner/Intermediate (10- 11 AM) This class will focus on learning basic skills in order to play songs alone or with other players. Each week we will focus on learning specific skills that players can build on to gain confidence while playing. We will also work on playing different styles of music and transposing pieces into various keys. The goal is to provide players information and skills so they are comfortable in various musical environments.  Topics Include: Open position chords and how they are related to each otherMoving from chord to chord smoothly and in timeRhythm and strumming techniquesSingle note play: Pentatonic scale\, lead-ins and fillsMovable chord shapesLearning new songsPlaying and performing with other musiciansGuitar II – Intermediate/Advanced (11:15 AM – 12:15 PM) This class will focus on learning additional skills in order to play more advanced songs and arrangements alone or with other players. Each week we will focus on learning specific skills that players can build on to gain confidence while playing. We will also work on playing different styles of music and transposing pieces into various keys. The goal is to provide players information and skills so they are comfortable in various musical environments.  Topics Include: Open position chords and how they are related to each other\, including more advanced voicingsChord extensions (6\, 7\, 9\, 13)\, inversions and advanced voicingsRhythm and strumming techniques\, including syncopated rhythms\, crosspicking and finger style rhythm playingSingle note play: utilizing various scales and phrasing to map out breaks/solosMovable chord shapes and voicings Learning and arranging new songsPlaying and performing with other musicians.   \n		\n	\n	\n	\n	\n	\n	\n	\n	\n	\n	\n		\n		Doors Open\n		Doors Open: 6:30 pm	\n	\n	\n\n		\n\n	\n		\n	\n						\n					Price\n					\n						Member\n						$27.11\n					\n				\n							\n					\n					\n						General\n						$30.37\n					\n				\n							\n					\n					\n						Child or Student\n						$15.18\n					\n				\n						\n				 \n				inclusive of fees\n			\n		\n	\n	\n	\n	\n	\n	\n		\n					\n				Get Tickets			\n			\n	\n	\n	\n	\n	\n		\n		\n			Similar Events\n			\n				View All\n				\n			\n		\n				\n			\n				\n\n											\n							\n\n	\n		\n		Caffè Lena\n	\n\n		\n\n		Peak Jazz Series: Charlie Ballantine\n\n				American Roots Folk Jazz\n		\n		\n			\n				\n								event\n			\n					\n\n		\n			Apr 30 • 7 PM		\n	\n	\n\n\n\n						\n												\n							\n\n	\n		\n		Caffè Lena\n	\n\n		\n\n		Peak Jazz Series: The Levin Brothers\n\n				Jazz\n		\n		\n			\n				\n								event\n			\n					\n\n		\n			May 28 • 7 PM		\n	\n	\n\n\n\n						\n												\n							\n\n	\n		\n		Caffè Lena\n	\n\n		\n\n		JAZZ at Caffe Lena : The Chuck Lamb Trio with Special Guest Terell Stafford\n\n				Jazz\n		\n		\n			\n				\n								event\n			\n					\n\n		\n			Jun 9 • 7 PM
URL:https://www.caffelena.org/event/guitar-workshops-10-1215/2025-01-09/
LOCATION:Caffè Lena\, 47 Phila Street\, Saratoga Springs\, NY\, 12866\, United States
CATEGORIES:Class
ATTACH;FMTTYPE=image/png:https://www.caffelena.org/wp-content/uploads/2025/01/december-6.png
END:VEVENT
BEGIN:VEVENT
DTSTART;TZID=America/New_York:20250107T190000
DTEND;TZID=America/New_York:20250107T210000
DTSTAMP:20260419T101646
CREATED:20250121T183458Z
LAST-MODIFIED:20250121T183608Z
UID:10003196-1736276400-1736283600@www.caffelena.org
SUMMARY:Storytelling Open Mic Featuring Claire Nolan
DESCRIPTION:Jazz		\n\n		\n			Share:\n			\n								\n				\n					\n				\n\n				\n				\n					\n				\n\n				\n				\n					\n				\n\n				\n				\n					\n				\n			\n		\n\n	\n	\n	\n	\n	\n	\n	\n	\n	EVERY FIRST TUESDAY DOORS AT 6:30 PM\, STORIES AT 7 PM $5 ADULTS / STUDENTS FREE Storytellers of all styles and levels of experience are welcome! Enjoy an evening of true stories\, traditional tales\, myths\, fables\, family stories and more. We have just one rule: no notes! No pre-sale tickets. Seating is first come first serve. Caffe Lena’s full menu is available. Claire Nolan enjoys telling myths\, literary tales\, and folktales. As the seventh of ten children\, she has a wealth of personal stories. Claire can be found telling tales locally at Caffè Lena in Saratoga\, Proctor’s Theater in Schenectady\, the Performing Arts Center at UAlbany\, and Thacher Park. Claire’s love of history has sparked her interest in learning about women who have changed the world. She tells their stories in personae.  \n		\n	\n	\n	\n	\n	\n	\n	\n	\n	\n	\n		\n		Doors Open\n		Doors Open: 6:30 pm	\n	\n	\n\n		\n\n	\n		\n	\n						\n					Price\n					\n						Member\n						$27.11\n					\n				\n							\n					\n					\n						General\n						$30.37\n					\n				\n							\n					\n					\n						Child or Student\n						$15.18\n					\n				\n						\n				 \n				inclusive of fees\n			\n		\n	\n	\n	\n	\n	\n	\n		\n					\n				Get Tickets			\n			\n	\n	\n	\n	\n	\n		\n		\n			Similar Events\n			\n				View All\n				\n			\n		\n				\n			\n				\n\n											\n							\n\n	\n		\n		Caffè Lena\n	\n\n		\n\n		Peak Jazz Series: Charlie Ballantine\n\n				American Roots Folk Jazz\n		\n		\n			\n				\n								event\n			\n					\n\n		\n			Apr 30 • 7 PM		\n	\n	\n\n\n\n						\n												\n							\n\n	\n		\n		Caffè Lena\n	\n\n		\n\n		JAZZ at Caffe Lena : The Chuck Lamb Trio with Special Guest Rob Paparozzi\n\n				Jazz\n		\n		\n			\n				\n								event\n			\n					\n\n		\n			May 12 • 7 PM		\n	\n	\n\n\n\n						\n												\n							\n\n	\n		\n		Caffè Lena\n	\n\n		\n\n		Peak Jazz Series: The Levin Brothers\n\n				Jazz\n		\n		\n			\n				\n								event\n			\n					\n\n		\n			May 28 • 7 PM
URL:https://www.caffelena.org/event/storytelling-open-mic-featuring-claire-nolan/
LOCATION:Caffè Lena\, 47 Phila Street\, Saratoga Springs\, NY\, 12866\, United States
CATEGORIES:Event
ATTACH;FMTTYPE=image/png:https://www.caffelena.org/wp-content/uploads/2025/01/december-9-3.png
END:VEVENT
BEGIN:VEVENT
DTSTART;TZID=America/New_York:20250106T190000
DTEND;TZID=America/New_York:20250106T210000
DTSTAMP:20260419T101646
CREATED:20250212T183543Z
LAST-MODIFIED:20260119T204326Z
UID:10003467-1736190000-1736197200@www.caffelena.org
SUMMARY:Open Mic [Parent]
DESCRIPTION:Jazz		\n\n		\n			Share:\n			\n								\n				\n					\n				\n\n				\n				\n					\n				\n\n				\n				\n					\n				\n\n				\n				\n					\n				\n			\n		\n\n	\n	\n	\n	\n	\n	\n	\n	\n	Open Mic night  Doors 6:00pm // Sign up 6:30pm // Show starts 7:00pmPlay your song on the Caffe’s famous stage! During the past three decades\, Lena’s open mic has been recognized with “Best Of” awards from Metroland Magazine\, The Alt Weekly\, The Saratogian Reader’s Poll and Saratoga’s Fab Five. Just like at our weekend shows\, all attention is focused on the stage. Our HostsFirst Monday – Rick Bolton Second Monday – Carolyn Shapiro  Third Monday – Ray Pashoukos Fourth Monday – Kate Blain Here’s what to expect:Every Monday. All ages\, all styles. Originals encouraged but not required.Please leave a $3-$5 donation for our non-profit organization if you’re able to.Doors open at 6:00 PM / Sign-up is 6:30 PM to 7:00 PM / Show at 7:00 / 2 songs or 10 minutesSign up is first come first serveYou are welcome to use our Yamaha studio upright acoustic piano or acoustic Martin guitar. We can play your MP3 backing track through our sound system. You are welcome to bring amps and drums BUT set up and break down is part of your 10 minutes.Limited Open Mic menu available. No alcohol! We like to keep our Monday nights family friendly.Play Nice! We foster a diverse community that has a great time making art and helping one another get better. Excessive profanity\, explicit sexual themes\, and “humor” that unkindly targets a specific group undermines this goal. It is up to the discretion of the host to enforce the house standards.Contact usIf you have any questions you can give us a call at 518-583-0022 or email our Monday House Manager: Artur artur@caffelena.org. \n		\n	\n	\n	\n	\n	\n	\n	\n	\n	\n	\n		\n		Doors Open\n		Doors Open: 6:30 pm	\n	\n	\n\n		\n\n	\n		\n	\n						\n					Price\n					\n						Member\n						$32.53\n					\n				\n							\n					\n					\n						General\n						$36.87\n					\n				\n							\n					\n					\n						Child or Student\n						$18.44\n					\n				\n						\n				 \n				inclusive of fees\n			\n		\n	\n	\n	\n	\n	\n	\n		\n					\n				Get Tickets			\n					\n				Streaming\n			\n			\n	\n	\n	\n	\n	\n		\n		\n			Similar Events\n			\n				View All\n				\n			\n		\n				\n			\n				\n\n											\n							\n\n	\n		\n		Caffè Lena\n	\n\n		\n\n		Peak Jazz Series: Charlie Ballantine\n\n				American Roots Folk Jazz\n		\n		\n			\n				\n								event\n			\n					\n\n		\n			Apr 30 • 7 PM		\n	\n	\n\n\n\n						\n												\n							\n\n	\n		\n		Caffè Lena\n	\n\n		\n\n		JAZZ at Caffe Lena : The Chuck Lamb Trio with Special Guest Rob Paparozzi\n\n				Jazz\n		\n		\n			\n				\n								event\n			\n					\n\n		\n			May 12 • 7 PM		\n	\n	\n\n\n\n						\n												\n							\n\n	\n		\n		Caffè Lena\n	\n\n		\n\n		JAZZ at Caffe Lena : The Chuck Lamb Trio with Special Guest Terell Stafford\n\n				Jazz\n		\n		\n			\n				\n								event\n			\n					\n\n		\n			Jun 9 • 7 PM
URL:https://www.caffelena.org/event/open-mic-parent/2025-01-06/
LOCATION:Caffè Lena\, 47 Phila Street\, Saratoga Springs\, NY\, 12866\, United States
CATEGORIES:Event
END:VEVENT
BEGIN:VEVENT
DTSTART;TZID=America/New_York:20230214T190000
DTEND;TZID=America/New_York:20230214T210000
DTSTAMP:20260419T101646
CREATED:20250129T212740Z
LAST-MODIFIED:20250129T212741Z
UID:10003210-1676401200-1676408400@www.caffelena.org
SUMMARY:Online School of Music: Fiddle with Bruce Molsky
DESCRIPTION:Jazz		\n\n		\n			Share:\n			\n								\n				\n					\n				\n\n				\n				\n					\n				\n\n				\n				\n					\n				\n\n				\n				\n					\n				\n			\n		\n\n	\n	\n	\n	\n	\n	\n	\n	\n	\n		\n	\n	\n	\n	\n	\n	\n	\n	\n	\n	\n		\n		Doors Open\n		Doors Open: 6:30 pm	\n	\n	\n\n		\n\n	\n		\n	\n						\n					Price\n					\n						Member\n						$27.11\n					\n				\n							\n					\n					\n						General\n						$30.37\n					\n				\n							\n					\n					\n						Child or Student\n						$15.18\n					\n				\n						\n				 \n				inclusive of fees\n			\n		\n	\n	\n	\n	\n	\n	\n		\n					\n				Get Tickets			\n			\n	\n	\n	\n	\n	\n		\n		\n			Similar Events\n			\n				View All\n				\n			\n		\n				\n			\n				\n\n											\n							\n\n	\n		\n		Caffè Lena\n	\n\n		\n\n		Peak Jazz Series: Charlie Ballantine\n\n				American Roots Folk Jazz\n		\n		\n			\n				\n								event\n			\n					\n\n		\n			Apr 30 • 7 PM		\n	\n	\n\n\n\n						\n												\n							\n\n	\n		\n		Caffè Lena\n	\n\n		\n\n		JAZZ at Caffe Lena : The Chuck Lamb Trio with Special Guest Rob Paparozzi\n\n				Jazz\n		\n		\n			\n				\n								event\n			\n					\n\n		\n			May 12 • 7 PM		\n	\n	\n\n\n\n						\n												\n							\n\n	\n		\n		Caffè Lena\n	\n\n		\n\n		Peak Jazz Series: The Levin Brothers\n\n				Jazz\n		\n		\n			\n				\n								event\n			\n					\n\n		\n			May 28 • 7 PM
URL:https://www.caffelena.org/event/online-school-of-music-fiddle-with-bruce-molsky/
LOCATION:Caffè Lena\, 47 Phila Street\, Saratoga Springs\, NY\, 12866\, United States
CATEGORIES:Class
END:VEVENT
END:VCALENDAR