BEGIN:VCALENDAR
VERSION:2.0
PRODID:-//Caffè Lena - ECPv6.15.18//NONSGML v1.0//EN
CALSCALE:GREGORIAN
METHOD:PUBLISH
X-ORIGINAL-URL:https://www.caffelena.org
X-WR-CALDESC:Events for Caffè Lena
REFRESH-INTERVAL;VALUE=DURATION:PT1H
X-Robots-Tag:noindex
X-PUBLISHED-TTL:PT1H
BEGIN:VTIMEZONE
TZID:America/New_York
BEGIN:DAYLIGHT
TZOFFSETFROM:-0500
TZOFFSETTO:-0400
TZNAME:EDT
DTSTART:20250309T070000
END:DAYLIGHT
BEGIN:STANDARD
TZOFFSETFROM:-0400
TZOFFSETTO:-0500
TZNAME:EST
DTSTART:20251102T060000
END:STANDARD
BEGIN:DAYLIGHT
TZOFFSETFROM:-0500
TZOFFSETTO:-0400
TZNAME:EDT
DTSTART:20260308T070000
END:DAYLIGHT
BEGIN:STANDARD
TZOFFSETFROM:-0400
TZOFFSETTO:-0500
TZNAME:EST
DTSTART:20261101T060000
END:STANDARD
BEGIN:DAYLIGHT
TZOFFSETFROM:-0500
TZOFFSETTO:-0400
TZNAME:EDT
DTSTART:20270314T070000
END:DAYLIGHT
BEGIN:STANDARD
TZOFFSETFROM:-0400
TZOFFSETTO:-0500
TZNAME:EST
DTSTART:20271107T060000
END:STANDARD
END:VTIMEZONE
BEGIN:VEVENT
DTSTART;TZID=America/New_York:20260509T100000
DTEND;TZID=America/New_York:20260509T120000
DTSTAMP:20260420T023609
CREATED:20251216T201825Z
LAST-MODIFIED:20251216T203426Z
UID:10005837-1778320800-1778328000@www.caffelena.org
SUMMARY:Songwriting Club
DESCRIPTION:Singer Songwriter Workshop		\n\n		\n			Share:\n			\n								\n				\n					\n				\n\n				\n				\n					\n				\n\n				\n				\n					\n				\n\n				\n				\n					\n				\n			\n		\n\n	\n	\n	\n	\n	\n	\n	\n	\n	I'm happy to announce that Songwriting Club is back at Caffè Lena with a more structured time slot. "Second Saturday Songwriting Club" will meet (you guessed it) every second Saturday! Starting January 10th 10am – 12pm. Hosted by Reese Fulmer and Girl Blue! The club will meet monthly with special guests being a more "special" event. Bring your pens\, pencils\, instruments\, thinking caps\, favorite songs.  January 10th  10am – 12pm $5 donation cookies and coffee by donation \n		\n	\n	\n	\n	\n	\n	\n	\n	\n	\n	\n	\n	\n\n		\n\n	\n	\n	\n	\n	\n	\n	\n	\n	\n	\n	\n	\n		\n		\n			Similar Events\n			\n				View All\n				\n			\n		\n				\n			\n				\n\n											\n							\n\n	\n		\n		Caffè Lena\n	\n\n		\n\n		After School Folk Ensemble with James Gascoyne and Oona Grady\n\n				American Roots Bluegrass Celtic Country Folk Workshop\n		\n		\n			\n				\n								class\n			\n					\n\n		\n			Apr 22 • 2:30 PM		\n	\n	\n\n\n\n						\n												\n							\n\n	\n		\n		Caffè Lena\n	\n\n		\n\n		Guitar Workshops with Bruce Thompson\n\n				Bluegrass Instructional Workshop\n		\n		\n			\n				\n								class\n			\n					\n\n		\n			Apr 23 • 9 AM		\n	\n	\n\n\n\n						\n												\n							\n\n	\n		\n		Caffè Lena\n	\n\n		\n\n		School of Music Slow Jam\n\n				American Roots Bluegrass Country Family Folk Workshop\n		\n		\n			\n				\n								class\n			\n					\n\n		\n			Apr 23 • 1 PM
URL:https://www.caffelena.org/event/songwriting-club-2/2026-05-09/
LOCATION:Caffè Lena\, 47 Phila Street\, Saratoga Springs\, NY\, 12866\, United States
CATEGORIES:Class
ATTACH;FMTTYPE=image/png:https://www.caffelena.org/wp-content/uploads/2025/12/december-23.png
END:VEVENT
BEGIN:VEVENT
DTSTART;TZID=America/New_York:20260613T100000
DTEND;TZID=America/New_York:20260613T120000
DTSTAMP:20260420T023609
CREATED:20251216T201825Z
LAST-MODIFIED:20251216T203426Z
UID:10005838-1781344800-1781352000@www.caffelena.org
SUMMARY:Songwriting Club
DESCRIPTION:American Roots Bluegrass Country Family Folk Workshop		\n\n		\n			Share:\n			\n								\n				\n					\n				\n\n				\n				\n					\n				\n\n				\n				\n					\n				\n\n				\n				\n					\n				\n			\n		\n\n	 \n\n\n \n\n\n\n\nI'm happy to announce that Songwriting Club is back at Caffè Lena with a more structured time slot. "Second Saturday Songwriting Club" will meet (you guessed it) every second Saturday! Starting January 10th 10am – 12pm. Hosted by Reese Fulmer and Girl Blue! The club will meet monthly with special guests being a more "special" event. Bring your pens\, pencils\, instruments\, thinking caps\, favorite songs.  \n \nJanuary 10th  \n \n10am – 12pm \n \n$5 donation \n \ncookies and coffee by donation \n \n \n\n\n\n\n \n\n\n \n \n \n \n \n\n\n \n	\n		\n			Similar Events\n			\n				View All\n				\n			\n		\n				\n			\n				\n\n											\n							\n\n	\n		\n		Caffè Lena\n	\n\n		\n\n		Folk Club Kids\n\n				American Roots Bluegrass Celtic Family Folk\n		\n		\n			\n				\n								class\n			\n					\n\n		\n			Apr 22 • 10:30 AM		\n	\n	\n\n\n\n						\n												\n							\n\n	\n		\n		Caffè Lena\n	\n\n		\n\n		After School Folk Ensemble with James Gascoyne and Oona Grady\n\n				American Roots Bluegrass Celtic Country Folk Workshop\n		\n		\n			\n				\n								class\n			\n					\n\n		\n			Apr 22 • 2:30 PM		\n	\n	\n\n\n\n						\n												\n							\n\n	\n		\n		Caffè Lena\n	\n\n		\n\n		Guitar Workshops with Bruce Thompson\n\n				Bluegrass Instructional Workshop\n		\n		\n			\n				\n								class\n			\n					\n\n		\n			Apr 23 • 9 AM
URL:https://www.caffelena.org/event/songwriting-club-2/2026-06-13/
LOCATION:Caffè Lena\, 47 Phila Street\, Saratoga Springs\, NY\, 12866\, United States
CATEGORIES:Class
ATTACH;FMTTYPE=image/png:https://www.caffelena.org/wp-content/uploads/2025/12/december-23.png
END:VEVENT
BEGIN:VEVENT
DTSTART;TZID=America/New_York:20260711T100000
DTEND;TZID=America/New_York:20260711T120000
DTSTAMP:20260420T023609
CREATED:20251216T201825Z
LAST-MODIFIED:20251216T203426Z
UID:10005839-1783764000-1783771200@www.caffelena.org
SUMMARY:Songwriting Club
DESCRIPTION:Bluegrass Instructional Workshop		\n\n		\n			Share:\n			\n								\n				\n					\n				\n\n				\n				\n					\n				\n\n				\n				\n					\n				\n\n				\n				\n					\n				\n			\n		\n\n	 \n\n\n \n\n\n\n\nI'm happy to announce that Songwriting Club is back at Caffè Lena with a more structured time slot. "Second Saturday Songwriting Club" will meet (you guessed it) every second Saturday! Starting January 10th 10am – 12pm. Hosted by Reese Fulmer and Girl Blue! The club will meet monthly with special guests being a more "special" event. Bring your pens\, pencils\, instruments\, thinking caps\, favorite songs.  \n \nJanuary 10th  \n \n10am – 12pm \n \n$5 donation \n \ncookies and coffee by donation \n \n \n\n\n\n\n \n\n\n \n \n	\n	\n						\n					Price\n					\n						General\n						$195.00\n					\n				\n			\n	 \n \n \n\n\n \n	\n		\n			Similar Events\n			\n				View All\n				\n			\n		\n				\n			\n				\n\n											\n							\n\n	\n		\n		Caffè Lena\n	\n\n		\n\n		Folk Club Kids\n\n				American Roots Bluegrass Celtic Family Folk\n		\n		\n			\n				\n								class\n			\n					\n\n		\n			Apr 22 • 10:30 AM		\n	\n	\n\n\n\n						\n												\n							\n\n	\n		\n		Caffè Lena\n	\n\n		\n\n		After School Folk Ensemble with James Gascoyne and Oona Grady\n\n				American Roots Bluegrass Celtic Country Folk Workshop\n		\n		\n			\n				\n								class\n			\n					\n\n		\n			Apr 22 • 2:30 PM		\n	\n	\n\n\n\n						\n												\n							\n\n	\n		\n		Caffè Lena\n	\n\n		\n\n		School of Music Slow Jam\n\n				American Roots Bluegrass Country Family Folk Workshop\n		\n		\n			\n				\n								class\n			\n					\n\n		\n			Apr 23 • 1 PM
URL:https://www.caffelena.org/event/songwriting-club-2/2026-07-11/
LOCATION:Caffè Lena\, 47 Phila Street\, Saratoga Springs\, NY\, 12866\, United States
CATEGORIES:Class
ATTACH;FMTTYPE=image/png:https://www.caffelena.org/wp-content/uploads/2025/12/december-23.png
END:VEVENT
BEGIN:VEVENT
DTSTART;TZID=America/New_York:20260808T100000
DTEND;TZID=America/New_York:20260808T120000
DTSTAMP:20260420T023610
CREATED:20251216T201825Z
LAST-MODIFIED:20251216T203426Z
UID:10005840-1786183200-1786190400@www.caffelena.org
SUMMARY:Songwriting Club
DESCRIPTION:American Roots Bluegrass Country Family Folk Workshop		\n\n		\n			Share:\n			\n								\n				\n					\n				\n\n				\n				\n					\n				\n\n				\n				\n					\n				\n\n				\n				\n					\n				\n			\n		\n\n	 \n\n\n \n\n\n\n\nI'm happy to announce that Songwriting Club is back at Caffè Lena with a more structured time slot. "Second Saturday Songwriting Club" will meet (you guessed it) every second Saturday! Starting January 10th 10am – 12pm. Hosted by Reese Fulmer and Girl Blue! The club will meet monthly with special guests being a more "special" event. Bring your pens\, pencils\, instruments\, thinking caps\, favorite songs.  \n \nJanuary 10th  \n \n10am – 12pm \n \n$5 donation \n \ncookies and coffee by donation \n \n \n\n\n\n\n \n\n\n \n \n \n \n \n\n\n \n	\n		\n			Similar Events\n			\n				View All\n				\n			\n		\n				\n			\n				\n\n											\n							\n\n	\n		\n		Caffè Lena\n	\n\n		\n\n		Folk Club Kids\n\n				American Roots Bluegrass Celtic Family Folk\n		\n		\n			\n				\n								class\n			\n					\n\n		\n			Apr 22 • 10:30 AM		\n	\n	\n\n\n\n						\n												\n							\n\n	\n		\n		Caffè Lena\n	\n\n		\n\n		After School Folk Ensemble with James Gascoyne and Oona Grady\n\n				American Roots Bluegrass Celtic Country Folk Workshop\n		\n		\n			\n				\n								class\n			\n					\n\n		\n			Apr 22 • 2:30 PM		\n	\n	\n\n\n\n						\n												\n							\n\n	\n		\n		Caffè Lena\n	\n\n		\n\n		Guitar Workshops with Bruce Thompson\n\n				Bluegrass Instructional Workshop\n		\n		\n			\n				\n								class\n			\n					\n\n		\n			Apr 23 • 9 AM
URL:https://www.caffelena.org/event/songwriting-club-2/2026-08-08/
LOCATION:Caffè Lena\, 47 Phila Street\, Saratoga Springs\, NY\, 12866\, United States
CATEGORIES:Class
ATTACH;FMTTYPE=image/png:https://www.caffelena.org/wp-content/uploads/2025/12/december-23.png
END:VEVENT
BEGIN:VEVENT
DTSTART;TZID=America/New_York:20260912T100000
DTEND;TZID=America/New_York:20260912T120000
DTSTAMP:20260420T023610
CREATED:20251216T201825Z
LAST-MODIFIED:20251216T203426Z
UID:10005841-1789207200-1789214400@www.caffelena.org
SUMMARY:Songwriting Club
DESCRIPTION:Bluegrass Instructional Workshop		\n\n		\n			Share:\n			\n								\n				\n					\n				\n\n				\n				\n					\n				\n\n				\n				\n					\n				\n\n				\n				\n					\n				\n			\n		\n\n	 \n\n\n \n\n\n\n\nI'm happy to announce that Songwriting Club is back at Caffè Lena with a more structured time slot. "Second Saturday Songwriting Club" will meet (you guessed it) every second Saturday! Starting January 10th 10am – 12pm. Hosted by Reese Fulmer and Girl Blue! The club will meet monthly with special guests being a more "special" event. Bring your pens\, pencils\, instruments\, thinking caps\, favorite songs.  \n \nJanuary 10th  \n \n10am – 12pm \n \n$5 donation \n \ncookies and coffee by donation \n \n \n\n\n\n\n \n\n\n \n \n	\n	\n						\n					Price\n					\n						General\n						$195.00\n					\n				\n			\n	 \n \n \n\n\n \n	\n		\n			Similar Events\n			\n				View All\n				\n			\n		\n				\n			\n				\n\n											\n							\n\n	\n		\n		Caffè Lena\n	\n\n		\n\n		Folk Club Kids\n\n				American Roots Bluegrass Celtic Family Folk\n		\n		\n			\n				\n								class\n			\n					\n\n		\n			Apr 22 • 10:30 AM		\n	\n	\n\n\n\n						\n												\n							\n\n	\n		\n		Caffè Lena\n	\n\n		\n\n		After School Folk Ensemble with James Gascoyne and Oona Grady\n\n				American Roots Bluegrass Celtic Country Folk Workshop\n		\n		\n			\n				\n								class\n			\n					\n\n		\n			Apr 22 • 2:30 PM		\n	\n	\n\n\n\n						\n												\n							\n\n	\n		\n		Caffè Lena\n	\n\n		\n\n		School of Music Slow Jam\n\n				American Roots Bluegrass Country Family Folk Workshop\n		\n		\n			\n				\n								class\n			\n					\n\n		\n			Apr 23 • 1 PM
URL:https://www.caffelena.org/event/songwriting-club-2/2026-09-12/
LOCATION:Caffè Lena\, 47 Phila Street\, Saratoga Springs\, NY\, 12866\, United States
CATEGORIES:Class
ATTACH;FMTTYPE=image/png:https://www.caffelena.org/wp-content/uploads/2025/12/december-23.png
END:VEVENT
BEGIN:VEVENT
DTSTART;TZID=America/New_York:20261010T100000
DTEND;TZID=America/New_York:20261010T120000
DTSTAMP:20260420T023610
CREATED:20251216T201825Z
LAST-MODIFIED:20251216T203426Z
UID:10005842-1791626400-1791633600@www.caffelena.org
SUMMARY:Songwriting Club
DESCRIPTION:American Roots Bluegrass Country Family Folk Workshop		\n\n		\n			Share:\n			\n								\n				\n					\n				\n\n				\n				\n					\n				\n\n				\n				\n					\n				\n\n				\n				\n					\n				\n			\n		\n\n	 \n\n\n \n\n\n\n\nI'm happy to announce that Songwriting Club is back at Caffè Lena with a more structured time slot. "Second Saturday Songwriting Club" will meet (you guessed it) every second Saturday! Starting January 10th 10am – 12pm. Hosted by Reese Fulmer and Girl Blue! The club will meet monthly with special guests being a more "special" event. Bring your pens\, pencils\, instruments\, thinking caps\, favorite songs.  \n \nJanuary 10th  \n \n10am – 12pm \n \n$5 donation \n \ncookies and coffee by donation \n \n \n\n\n\n\n \n\n\n \n \n \n \n \n\n\n \n	\n		\n			Similar Events\n			\n				View All\n				\n			\n		\n				\n			\n				\n\n											\n							\n\n	\n		\n		Caffè Lena\n	\n\n		\n\n		Folk Club Kids\n\n				American Roots Bluegrass Celtic Family Folk\n		\n		\n			\n				\n								class\n			\n					\n\n		\n			Apr 22 • 10:30 AM		\n	\n	\n\n\n\n						\n												\n							\n\n	\n		\n		Caffè Lena\n	\n\n		\n\n		After School Folk Ensemble with James Gascoyne and Oona Grady\n\n				American Roots Bluegrass Celtic Country Folk Workshop\n		\n		\n			\n				\n								class\n			\n					\n\n		\n			Apr 22 • 2:30 PM		\n	\n	\n\n\n\n						\n												\n							\n\n	\n		\n		Caffè Lena\n	\n\n		\n\n		Guitar Workshops with Bruce Thompson\n\n				Bluegrass Instructional Workshop\n		\n		\n			\n				\n								class\n			\n					\n\n		\n			Apr 23 • 9 AM
URL:https://www.caffelena.org/event/songwriting-club-2/2026-10-10/
LOCATION:Caffè Lena\, 47 Phila Street\, Saratoga Springs\, NY\, 12866\, United States
CATEGORIES:Class
ATTACH;FMTTYPE=image/png:https://www.caffelena.org/wp-content/uploads/2025/12/december-23.png
END:VEVENT
BEGIN:VEVENT
DTSTART;TZID=America/New_York:20261114T100000
DTEND;TZID=America/New_York:20261114T120000
DTSTAMP:20260420T023610
CREATED:20251216T201825Z
LAST-MODIFIED:20251216T203426Z
UID:10005843-1794650400-1794657600@www.caffelena.org
SUMMARY:Songwriting Club
DESCRIPTION:Bluegrass Instructional Workshop		\n\n		\n			Share:\n			\n								\n				\n					\n				\n\n				\n				\n					\n				\n\n				\n				\n					\n				\n\n				\n				\n					\n				\n			\n		\n\n	 \n\n\n \n\n\n\n\nI'm happy to announce that Songwriting Club is back at Caffè Lena with a more structured time slot. "Second Saturday Songwriting Club" will meet (you guessed it) every second Saturday! Starting January 10th 10am – 12pm. Hosted by Reese Fulmer and Girl Blue! The club will meet monthly with special guests being a more "special" event. Bring your pens\, pencils\, instruments\, thinking caps\, favorite songs.  \n \nJanuary 10th  \n \n10am – 12pm \n \n$5 donation \n \ncookies and coffee by donation \n \n \n\n\n\n\n \n\n\n \n \n	\n	\n						\n					Price\n					\n						General\n						$195.00\n					\n				\n			\n	 \n \n \n\n\n \n	\n		\n			Similar Events\n			\n				View All\n				\n			\n		\n				\n			\n				\n\n											\n							\n\n	\n		\n		Caffè Lena\n	\n\n		\n\n		Folk Club Kids\n\n				American Roots Bluegrass Celtic Family Folk\n		\n		\n			\n				\n								class\n			\n					\n\n		\n			Apr 22 • 10:30 AM		\n	\n	\n\n\n\n						\n												\n							\n\n	\n		\n		Caffè Lena\n	\n\n		\n\n		After School Folk Ensemble with James Gascoyne and Oona Grady\n\n				American Roots Bluegrass Celtic Country Folk Workshop\n		\n		\n			\n				\n								class\n			\n					\n\n		\n			Apr 22 • 2:30 PM		\n	\n	\n\n\n\n						\n												\n							\n\n	\n		\n		Caffè Lena\n	\n\n		\n\n		School of Music Slow Jam\n\n				American Roots Bluegrass Country Family Folk Workshop\n		\n		\n			\n				\n								class\n			\n					\n\n		\n			Apr 23 • 1 PM
URL:https://www.caffelena.org/event/songwriting-club-2/2026-11-14/
LOCATION:Caffè Lena\, 47 Phila Street\, Saratoga Springs\, NY\, 12866\, United States
CATEGORIES:Class
ATTACH;FMTTYPE=image/png:https://www.caffelena.org/wp-content/uploads/2025/12/december-23.png
END:VEVENT
BEGIN:VEVENT
DTSTART;TZID=America/New_York:20261212T100000
DTEND;TZID=America/New_York:20261212T120000
DTSTAMP:20260420T023610
CREATED:20251216T201825Z
LAST-MODIFIED:20251216T203426Z
UID:10005844-1797069600-1797076800@www.caffelena.org
SUMMARY:Songwriting Club
DESCRIPTION:American Roots Bluegrass Country Family Folk Workshop		\n\n		\n			Share:\n			\n								\n				\n					\n				\n\n				\n				\n					\n				\n\n				\n				\n					\n				\n\n				\n				\n					\n				\n			\n		\n\n	 \n\n\n \n\n\n\n\nI'm happy to announce that Songwriting Club is back at Caffè Lena with a more structured time slot. "Second Saturday Songwriting Club" will meet (you guessed it) every second Saturday! Starting January 10th 10am – 12pm. Hosted by Reese Fulmer and Girl Blue! The club will meet monthly with special guests being a more "special" event. Bring your pens\, pencils\, instruments\, thinking caps\, favorite songs.  \n \nJanuary 10th  \n \n10am – 12pm \n \n$5 donation \n \ncookies and coffee by donation \n \n \n\n\n\n\n \n\n\n \n \n \n \n \n\n\n \n	\n		\n			Similar Events\n			\n				View All\n				\n			\n		\n				\n			\n				\n\n											\n							\n\n	\n		\n		Caffè Lena\n	\n\n		\n\n		Folk Club Kids\n\n				American Roots Bluegrass Celtic Family Folk\n		\n		\n			\n				\n								class\n			\n					\n\n		\n			Apr 22 • 10:30 AM		\n	\n	\n\n\n\n						\n												\n							\n\n	\n		\n		Caffè Lena\n	\n\n		\n\n		After School Folk Ensemble with James Gascoyne and Oona Grady\n\n				American Roots Bluegrass Celtic Country Folk Workshop\n		\n		\n			\n				\n								class\n			\n					\n\n		\n			Apr 22 • 2:30 PM		\n	\n	\n\n\n\n						\n												\n							\n\n	\n		\n		Caffè Lena\n	\n\n		\n\n		Guitar Workshops with Bruce Thompson\n\n				Bluegrass Instructional Workshop\n		\n		\n			\n				\n								class\n			\n					\n\n		\n			Apr 23 • 9 AM
URL:https://www.caffelena.org/event/songwriting-club-2/2026-12-12/
LOCATION:Caffè Lena\, 47 Phila Street\, Saratoga Springs\, NY\, 12866\, United States
CATEGORIES:Class
ATTACH;FMTTYPE=image/png:https://www.caffelena.org/wp-content/uploads/2025/12/december-23.png
END:VEVENT
END:VCALENDAR