BEGIN:VCALENDAR
VERSION:2.0
PRODID:-//Caffè Lena - ECPv6.15.18//NONSGML v1.0//EN
CALSCALE:GREGORIAN
METHOD:PUBLISH
X-WR-CALNAME:Caffè Lena
X-ORIGINAL-URL:https://www.caffelena.org
X-WR-CALDESC:Events for Caffè Lena
REFRESH-INTERVAL;VALUE=DURATION:PT1H
X-Robots-Tag:noindex
X-PUBLISHED-TTL:PT1H
BEGIN:VTIMEZONE
TZID:America/New_York
BEGIN:DAYLIGHT
TZOFFSETFROM:-0500
TZOFFSETTO:-0400
TZNAME:EDT
DTSTART:20250309T070000
END:DAYLIGHT
BEGIN:STANDARD
TZOFFSETFROM:-0400
TZOFFSETTO:-0500
TZNAME:EST
DTSTART:20251102T060000
END:STANDARD
BEGIN:DAYLIGHT
TZOFFSETFROM:-0500
TZOFFSETTO:-0400
TZNAME:EDT
DTSTART:20260308T070000
END:DAYLIGHT
BEGIN:STANDARD
TZOFFSETFROM:-0400
TZOFFSETTO:-0500
TZNAME:EST
DTSTART:20261101T060000
END:STANDARD
BEGIN:DAYLIGHT
TZOFFSETFROM:-0500
TZOFFSETTO:-0400
TZNAME:EDT
DTSTART:20270314T070000
END:DAYLIGHT
BEGIN:STANDARD
TZOFFSETFROM:-0400
TZOFFSETTO:-0500
TZNAME:EST
DTSTART:20271107T060000
END:STANDARD
END:VTIMEZONE
BEGIN:VEVENT
DTSTART;TZID=America/New_York:20260424T093000
DTEND;TZID=America/New_York:20260424T103000
DTSTAMP:20260424T112607
CREATED:20260309T172610Z
LAST-MODIFIED:20260309T174126Z
UID:10006155-1777023000-1777026600@www.caffelena.org
SUMMARY:Music With Miss Deb
DESCRIPTION:Folk		\n\n		\n			Share:\n			\n								\n				\n					\n				\n\n				\n				\n					\n				\n\n				\n				\n					\n				\n\n				\n				\n					\n				\n			\n		\n\n	\n	\n	\n	\n	\n	\n	\n	\n	Experience this interactive and fun exploration of music with Miss Deb! Birth – 4 years old We will sing songs\, move around\, play with colorful props and play percussion instruments while enjoying and learning about music in an organic learning environment.  Songs from other cultures will be included along with traditional folk songs.  Fun for the whole family! #youthclass \n		\n	\n	\n	\n	\n	\n	\n	\n	\n	\n	\n		\n		Doors Open\n		Doors Open: 3:30 pm	\n	\n	\n\n		\n\n	\n		\n	\n						\n					Price\n					\n						Member\n						$27.11\n					\n				\n							\n					\n					\n						General\n						$30.37\n					\n				\n							\n					\n					\n						Child or Student\n						$15.18\n					\n				\n						\n				 \n				inclusive of fees\n			\n		\n	\n	\n	\n	\n	\n	\n		\n					\n				Get Tickets			\n			\n	\n	\n	\n	\n	\n		\n		\n			Similar Events\n			\n				View All\n				\n			\n		\n				\n			\n				\n\n											\n							\n\n	\n		\n		Caffè Lena\n	\n\n		\n\n		Alice Howe & Freebo\n\n				American Roots Blues Folk Singer Songwriter\n		\n		\n			\n				\n								event\n			\n					\n\n		\n			Apr 24 • 8 PM		\n	\n	\n\n\n\n						\n												\n							\n\n	\n		\n		Caffè Lena\n	\n\n		\n\n		Tom Rush 2026\n\n				Folk\n		\n		\n			\n				\n								event\n			\n			Sold Out		\n\n		\n			Apr 26 • 4 PM		\n	\n	\n\n\n\n						\n												\n							\n\n	\n		\n		Caffè Lena\n	\n\n		\n\n		Tom Rush 2026\n\n				Folk\n		\n		\n			\n				\n								event\n			\n			Sold Out		\n\n		\n			Apr 26 • 7 PM
URL:https://www.caffelena.org/event/music-with-miss-deb-4/2026-04-24/
LOCATION:Caffè Lena\, 47 Phila Street\, Saratoga Springs\, NY\, 12866\, United States
CATEGORIES:Class
END:VEVENT
BEGIN:VEVENT
DTSTART;TZID=America/New_York:20260424T120000
DTEND;TZID=America/New_York:20260424T130000
DTSTAMP:20260424T112608
CREATED:20260307T140933Z
LAST-MODIFIED:20260414T002636Z
UID:10006152-1777032000-1777035600@www.caffelena.org
SUMMARY:Captain Fun Lunchtime Listening Hour
DESCRIPTION:Folk		\n\n		\n			Share:\n			\n								\n				\n					\n				\n\n				\n				\n					\n				\n\n				\n				\n					\n				\n\n				\n				\n					\n				\n			\n		\n\n	\n	\n	\n	\n	\n	\n	\n	\n	Bring your lunch & listen to a playlist curated by a Caffe Lena Community member. For the March edition of the Captain Fun Lunchtime Listening Hour\, our playlist curator will be our beloved house manager\, Artur Wachala! The D.J. spinning those records will be the Rochmon himself – Chuck “Rochmon” Vosganian. All are welcome to gather at Lena’s from Noon to 1 PM on the last Friday of each month to enjoy musical memories and new discoveries. The playlist is selected by a different community member each month from the Captain Fun Listening Library of vinyl records in Lena’s lobby. Bring a brown bag lunch. Coffee and tea are provided. The Captain Fun Listening Library occupying the north wall in the Caffè Lena lobby consists of 1\,516 vinyl albums and several hundred CDs selected from Al “Captain Fun” McKenney’s expertly curated collection. This treasure trove of folk\, blues and jazz was left us in 2015 and we share it through our monthly listening hour\, as Al wished.  Enjoy the memories these records bring back\, and dig deep into American roots music.    If you want to create a playlist and host a session\, please email Laura Sterling or let us know when you are next at Lena’s!  ﻿ \n		\n	\n	\n	\n	\n	\n	\n	\n	\n	\n	\n		\n		Doors Open\n		Doors Open: 6:30 pm	\n	\n	\n\n		\n\n	\n		\n	\n						\n					Price\n					\n						Member\n						$65.07\n					\n				\n							\n					\n					\n						General\n						$70.49\n					\n				\n							\n					\n					\n						Child or Student\n						$35.25\n					\n				\n						\n				 \n				inclusive of fees\n			\n		\n	\n	\n	\n	\n	\n	\n		\n					\n				Get Tickets			\n					\n				Streaming\n			\n			\n	\n	\n	\n	\n	\n		\n		\n			Similar Events\n			\n				View All\n				\n			\n		\n				\n			\n				\n\n											\n							\n\n	\n		\n		Caffè Lena\n	\n\n		\n\n		Alice Howe & Freebo\n\n				American Roots Blues Folk Singer Songwriter\n		\n		\n			\n				\n								event\n			\n					\n\n		\n			Apr 24 • 8 PM		\n	\n	\n\n\n\n						\n												\n							\n\n	\n		\n		Caffè Lena\n	\n\n		\n\n		Tom Rush 2026\n\n				Folk\n		\n		\n			\n				\n								event\n			\n			Sold Out		\n\n		\n			Apr 26 • 4 PM		\n	\n	\n\n\n\n						\n												\n							\n\n	\n		\n		Caffè Lena\n	\n\n		\n\n		Peak Jazz Series: Charlie Ballantine\n\n				American Roots Folk Jazz\n		\n		\n			\n				\n								event\n			\n					\n\n		\n			Apr 30 • 7 PM
URL:https://www.caffelena.org/event/captain-fun-lunchtime-listening-hour-10/
LOCATION:Caffè Lena\, 47 Phila Street\, Saratoga Springs\, NY\, 12866\, United States
CATEGORIES:Event
ATTACH;FMTTYPE=image/jpeg:https://www.caffelena.org/wp-content/uploads/2026/03/Eventbrite-Banners-940-x-470-px-5.jpg
END:VEVENT
BEGIN:VEVENT
DTSTART;TZID=America/New_York:20260424T200000
DTEND;TZID=America/New_York:20260424T220000
DTSTAMP:20260424T112608
CREATED:20260126T021403Z
LAST-MODIFIED:20260306T203406Z
UID:10006068-1777060800-1777068000@www.caffelena.org
SUMMARY:Alice Howe & Freebo
DESCRIPTION:American Roots Folk Jazz		\n\n		\n			Share:\n			\n								\n				\n					\n				\n\n				\n				\n					\n				\n\n				\n				\n					\n				\n\n				\n				\n					\n				\n			\n		\n\n	\n	\n	\n	\n	\n	\n	\n	\n	Alice Howe’s voice is a rare gift—clear\, soulful\, and immediately arresting. There’s a timeless quality to her singing that calls back to the golden era of folk and Americana\, while feeling fully alive in the present. Her music captures roots music at its best: honest\, emotionally rich\, and deeply human. Alice recorded her most recent studio album\, Circumstance\, at the legendary FAME Studios in Muscle Shoals\, stepping onto sacred musical ground shaped by generations of iconic artists. Surrounded by that history\, she dug deeper—and delivered a powerful record blending southern rock\, folk\, blues\, and classic soul\, all anchored by the sheer beauty and emotional clarity of her voice. Her songwriting is introspective and fearless\, reflecting on love\, loss\, resilience\, and self-discovery with warmth and grace. Joining her is the legendary Freebo—a true folk-rock-blues icon whose career has helped shape American roots music. Best known for his decade-long tenure as Bonnie Raitt’s bassist beginning in 1971\, Freebo’s distinctive fretless bass lines can be heard on countless classic recordings. He has toured and collaborated with John Mayall\, Crosby\, Stills & Nash\, Maria Muldaur\, Ringo Starr\, Dr. John\, Neil Young\, and many others. Beyond the studio\, Freebo has appeared on shows like Saturday Night Live and Midnight Special\, The Muppet Show and even performed with Spinal Tap. Freebo is also a gifted songwriter\, known for compassionate\, thoughtful songs that reflect on life\, love\, and legacy. Together\, Alice Howe & Freebo share undeniable chemistry. Freebo weaves his lyrical fretless bass into Alice’s soulful\, impeccably tuned vocals\, creating a harmony-driven performance that showcases two uniquely compelling songwriters in deep conversation with one another. That connection is beautifully captured on Alice Howe & Freebo Live—a 14-song album recorded in front of a small audience at Rainshadow Recording Studio in Port Townsend\, Washington. The result was to capture on record the magic Alice & Freebo make on stage.  Their music is steeped in tradition\, alive with collaboration\, and perfectly suited to the intimacy of a listening room. This is an evening of rich songs\, shared stories\, and the kind of musical connection that can only happen live. SAMPLE SONG Don’t miss this special night at Caffè Lena. Stream this show live at Caffè Lena TV. Livestream available for $5 – 100% of live stream tickets on CaffeLenaTV benefit the artists. Subscribe for unlimited live streaming\, two week access to recent shows\, and Caffe Lena's video archive. ﻿Note: Caffe Lena does not permit ticket reselling above face value. Tickets purchased for the purpose of resale may be canceled without notice\, and refunds for such purchases will not be granted. \n		\n	\n	\n	\n	\n	\n	\n	\n	\n	\n	\n		\n		Doors Open\n		Doors Open: 6:30 pm	\n	\n	\n\n		\n\n	\n		\n	\n						\n					Price\n					\n						Member\n						$27.11\n					\n				\n							\n					\n					\n						General\n						$30.37\n					\n				\n							\n					\n					\n						Child or Student\n						$15.18\n					\n				\n						\n				 \n				inclusive of fees\n			\n		\n	\n	\n	\n	\n	\n	\n		\n					\n				Get Tickets			\n					\n				Streaming\n			\n			\n	\n	\n	\n	\n	\n		\n		\n			Similar Events\n			\n				View All\n				\n			\n		\n				\n			\n				\n\n											\n							\n\n	\n		\n		Caffè Lena\n	\n\n		\n\n		Captain Fun Lunchtime Listening Hour\n\n				American Roots\n		\n		\n			\n				\n								event\n			\n					\n\n		\n			Apr 24 • 12 PM		\n	\n	\n\n\n\n						\n												\n							\n\n	\n		\n		Caffè Lena\n	\n\n		\n\n		Alice Howe & Freebo\n\n				American Roots Blues Folk Singer Songwriter\n		\n		\n			\n				\n								event\n			\n					\n\n		\n			Apr 24 • 8 PM		\n	\n	\n\n\n\n						\n												\n							\n\n	\n		\n		Caffè Lena\n	\n\n		\n\n		Tom Rush 2026\n\n				Folk\n		\n		\n			\n				\n								event\n			\n			Sold Out		\n\n		\n			Apr 26 • 4 PM
URL:https://www.caffelena.org/event/alice-howe-freebo/
LOCATION:Caffè Lena\, 47 Phila Street\, Saratoga Springs\, NY\, 12866\, United States
CATEGORIES:Event
ATTACH;FMTTYPE=image/png:https://www.caffelena.org/wp-content/uploads/2026/01/Alice-Howe-Freebo.png
END:VEVENT
END:VCALENDAR