BEGIN:VCALENDAR
VERSION:2.0
PRODID:-//Caffè Lena - ECPv6.15.18//NONSGML v1.0//EN
CALSCALE:GREGORIAN
METHOD:PUBLISH
X-ORIGINAL-URL:https://www.caffelena.org
X-WR-CALDESC:Events for Caffè Lena
REFRESH-INTERVAL;VALUE=DURATION:PT1H
X-Robots-Tag:noindex
X-PUBLISHED-TTL:PT1H
BEGIN:VTIMEZONE
TZID:America/New_York
BEGIN:DAYLIGHT
TZOFFSETFROM:-0500
TZOFFSETTO:-0400
TZNAME:EDT
DTSTART:20240310T070000
END:DAYLIGHT
BEGIN:STANDARD
TZOFFSETFROM:-0400
TZOFFSETTO:-0500
TZNAME:EST
DTSTART:20241103T060000
END:STANDARD
BEGIN:DAYLIGHT
TZOFFSETFROM:-0500
TZOFFSETTO:-0400
TZNAME:EDT
DTSTART:20250309T070000
END:DAYLIGHT
BEGIN:STANDARD
TZOFFSETFROM:-0400
TZOFFSETTO:-0500
TZNAME:EST
DTSTART:20251102T060000
END:STANDARD
BEGIN:DAYLIGHT
TZOFFSETFROM:-0500
TZOFFSETTO:-0400
TZNAME:EDT
DTSTART:20260308T070000
END:DAYLIGHT
BEGIN:STANDARD
TZOFFSETFROM:-0400
TZOFFSETTO:-0500
TZNAME:EST
DTSTART:20261101T060000
END:STANDARD
END:VTIMEZONE
BEGIN:VEVENT
DTSTART;TZID=America/New_York:20251214T133000
DTEND;TZID=America/New_York:20251214T160000
DTSTAMP:20260423T021218
CREATED:20250211T161438Z
LAST-MODIFIED:20250917T185041Z
UID:10003430-1765719000-1765728000@www.caffelena.org
SUMMARY:Playwright's Jam
DESCRIPTION:Folk		\n\n		\n			Share:\n			\n								\n				\n					\n				\n\n				\n				\n					\n				\n\n				\n				\n					\n				\n\n				\n				\n					\n				\n			\n		\n\n	\n	\n	\n	\n	\n	\n	\n	\n	Looking for an opportunity to connect with local writers\, actors\, and directors? Want to share a theater piece you’re writing? Join us for the 1st Sunday monthly Playwright’s Jams! A monthly meetup hosted by Caffe Lena for local writers\, actors & directors The First Sunday of the Month 1:30pm- 4:00pm Doors open at 1:00; Casting begins at 1:15pm and Readings start at 1:30pm! Bring your great ideas\, your new scripts\, your edits and your friends for an inspiring afternoon fo theater in the making. Playwrights should bring a highlighted script for each of their actors and one extra for stage directionsBring a short scene (7-8 minutes). Cast your actors from the audience\, including your fellow playwrights. Give them brief directions and then put them on stage to read your script. We’ll go around the room after the reading and let everyone give a “popcorn” reaction (one word!).Each meeting will include 6 or 7 scenes selected at random from those submitted. After the readings we’ll have time to hang out and get acquainted. This event will be co-hosted by Michael Wells-Oakes and Vivian NesbittPlaywright Nice! We foster a diverse community that has a great time making art and helping one another get better. Excessive profanity\, explicit sexual themes and “humor” that unkindly targets a specific group undermines this goal. It is up to the discretion of the host to enforce the house standards. \n		\n	\n	\n	\n	\n	\n	\n	\n	\n	\n	\n		\n		Doors Open\n		Doors Open: 3:30 pm	\n	\n	\n\n		\n\n	\n		\n	\n						\n					Price\n					\n						Member\n						$27.11\n					\n				\n							\n					\n					\n						General\n						$30.37\n					\n				\n							\n					\n					\n						Child or Student\n						$15.18\n					\n				\n						\n				 \n				inclusive of fees\n			\n		\n	\n	\n	\n	\n	\n	\n		\n					\n				Get Tickets			\n			\n	\n	\n	\n	\n	\n		\n		\n			Similar Events\n			\n				View All\n				\n			\n		\n				\n			\n				\n\n											\n							\n\n	\n		\n		Caffè Lena\n	\n\n		\n\n		Leslie Mendelson\n\n				American Roots Folk Singer Songwriter\n		\n		\n			\n				\n								event\n			\n					\n\n		\n			Apr 23 • 7 PM		\n	\n	\n\n\n\n						\n												\n							\n\n	\n		\n		Caffè Lena\n	\n\n		\n\n		Alice Howe & Freebo\n\n				American Roots Blues Folk Singer Songwriter\n		\n		\n			\n				\n								event\n			\n					\n\n		\n			Apr 24 • 8 PM		\n	\n	\n\n\n\n						\n												\n							\n\n	\n		\n		Caffè Lena\n	\n\n		\n\n		Tom Rush 2026\n\n				Folk\n		\n		\n			\n				\n								event\n			\n			Sold Out		\n\n		\n			Apr 26 • 4 PM
URL:https://www.caffelena.org/event/playwrights-jam-8/
LOCATION:Caffè Lena\, 47 Phila Street\, Saratoga Springs\, NY\, 12866\, United States
CATEGORIES:Class
ATTACH;FMTTYPE=image/png:https://www.caffelena.org/wp-content/uploads/2025/02/Playwright39s-Jam-graphic-940-x-470-px-7.png
END:VEVENT
BEGIN:VEVENT
DTSTART;TZID=America/New_York:20251214T190000
DTEND;TZID=America/New_York:20251214T210000
DTSTAMP:20260423T021218
CREATED:20250917T171040Z
LAST-MODIFIED:20251214T200302Z
UID:10005643-1765738800-1765746000@www.caffelena.org
SUMMARY:Nordlys Global Voices Series: Kongero
DESCRIPTION:Folk		\n\n		\n			Share:\n			\n								\n				\n					\n				\n\n				\n				\n					\n				\n\n				\n				\n					\n				\n\n				\n				\n					\n				\n			\n		\n\n	\n	\n	\n	\n	\n	\n	\n	\n	Experience the spellbinding sound of Kongero—a world-renowned Swedish Folk’appella quartet whose voices weave together with breathtaking power\, beauty\, and precision. Formed in 2005\, Kongero (Anna Wikénius\, Sofia Hultqvist Kott\, Lotta Andersson\, and Emma Björling) has become one of Scandinavia’s most celebrated vocal ensembles. Their music is evocative and haunting\, filled with intricate harmonies\, rhythmic drive\, and the soul of Swedish folk traditions. At once groovy and ethereal\, their concerts take listeners on an unforgettable journey through the landscape of Nordic song.  With six acclaimed albums—including their most recent\, Live in Longueuil—Kongero pushes the boundaries of folk\, world\, a cappella\, and chamber music. Their artistry has carried them across Europe\, North America\, and beyond\, with performances at major showcases such as Folk Alliance International\, Nordic Folk Alliance\, Bourse Rideau\, and Global Music Match. Beyond the stage\, Kongero shares their passion through workshops and master classes\, building lasting connections with singers around the world. They are also the founders of Nordic Folk Fest and serve on the board of NASC – North Atlantic Song Community\, strengthening cultural exchange through song. SAMPLE SONG Join us for an evening of soaring harmonies and rich tradition—an all-embracing Scandinavian folk music experience unlike any other. Stream this show live at Caffè Lena TV. Live stream available for $5 – 100% of live stream tickets on CaffeLenaTV benefit the artists. Subscribe for unlimited live streaming\, two week access to recent shows\, and Caffe Lena's video archive. ﻿ ﻿Note: Caffe Lena does not permit ticket reselling above face value. Tickets purchased for the purpose of resale may be canceled without notice\, and refunds for such purchases will not be granted.   \n		\n	\n	\n	\n	\n	\n	\n	\n	\n	\n	\n		\n		Doors Open\n		Doors Open: 3:30 pm	\n	\n	\n\n		\n\n	\n		\n	\n						\n					Price\n					\n						Member\n						$65.07\n					\n				\n							\n					\n					\n						General\n						$70.49\n					\n				\n							\n					\n					\n						Child or Student\n						$35.25\n					\n				\n						\n				 \n				inclusive of fees\n			\n		\n	\n	\n	\n	\n	\n	\n		\n					\n				Get Tickets			\n					\n				Streaming\n			\n			\n	\n	\n	\n	\n	\n		\n		\n			Similar Events\n			\n				View All\n				\n			\n		\n				\n			\n				\n\n											\n							\n\n	\n		\n		Caffè Lena\n	\n\n		\n\n		Leslie Mendelson\n\n				American Roots Folk Singer Songwriter\n		\n		\n			\n				\n								event\n			\n					\n\n		\n			Apr 23 • 7 PM		\n	\n	\n\n\n\n						\n												\n							\n\n	\n		\n		Caffè Lena\n	\n\n		\n\n		Alice Howe & Freebo\n\n				American Roots Blues Folk Singer Songwriter\n		\n		\n			\n				\n								event\n			\n					\n\n		\n			Apr 24 • 8 PM		\n	\n	\n\n\n\n						\n												\n							\n\n	\n		\n		Caffè Lena\n	\n\n		\n\n		Tom Rush 2026\n\n				Folk\n		\n		\n			\n				\n								event\n			\n			Sold Out		\n\n		\n			Apr 26 • 7 PM
URL:https://www.caffelena.org/event/nordlys-global-voices-series-kongero/
LOCATION:Caffè Lena\, 47 Phila Street\, Saratoga Springs\, NY\, 12866\, United States
CATEGORIES:Event
ATTACH;FMTTYPE=image/png:https://www.caffelena.org/wp-content/uploads/2025/09/image-35.png
END:VEVENT
END:VCALENDAR