BEGIN:VCALENDAR
VERSION:2.0
PRODID:-//Caffè Lena - ECPv6.15.18//NONSGML v1.0//EN
CALSCALE:GREGORIAN
METHOD:PUBLISH
X-WR-CALNAME:Caffè Lena
X-ORIGINAL-URL:https://www.caffelena.org
X-WR-CALDESC:Events for Caffè Lena
REFRESH-INTERVAL;VALUE=DURATION:PT1H
X-Robots-Tag:noindex
X-PUBLISHED-TTL:PT1H
BEGIN:VTIMEZONE
TZID:America/New_York
BEGIN:DAYLIGHT
TZOFFSETFROM:-0500
TZOFFSETTO:-0400
TZNAME:EDT
DTSTART:20240310T070000
END:DAYLIGHT
BEGIN:STANDARD
TZOFFSETFROM:-0400
TZOFFSETTO:-0500
TZNAME:EST
DTSTART:20241103T060000
END:STANDARD
BEGIN:DAYLIGHT
TZOFFSETFROM:-0500
TZOFFSETTO:-0400
TZNAME:EDT
DTSTART:20250309T070000
END:DAYLIGHT
BEGIN:STANDARD
TZOFFSETFROM:-0400
TZOFFSETTO:-0500
TZNAME:EST
DTSTART:20251102T060000
END:STANDARD
BEGIN:DAYLIGHT
TZOFFSETFROM:-0500
TZOFFSETTO:-0400
TZNAME:EDT
DTSTART:20260308T070000
END:DAYLIGHT
BEGIN:STANDARD
TZOFFSETFROM:-0400
TZOFFSETTO:-0500
TZNAME:EST
DTSTART:20261101T060000
END:STANDARD
END:VTIMEZONE
BEGIN:VEVENT
DTSTART;TZID=America/New_York:20251211T130000
DTEND;TZID=America/New_York:20251211T150000
DTSTAMP:20260421T143537
CREATED:20250206T145417Z
LAST-MODIFIED:20250207T162945Z
UID:10003986-1765458000-1765465200@www.caffelena.org
SUMMARY:School of Music Slow Jam
DESCRIPTION:American Roots		\n\n		\n			Share:\n			\n								\n				\n					\n				\n\n				\n				\n					\n				\n\n				\n				\n					\n				\n\n				\n				\n					\n				\n			\n		\n\n	\n	\n	\n	\n	\n	\n	\n	\n	All are Welcome! WE LOVE TO MEET NEW PICKERS\, AND WE LOVE PUTTING ON A GOOD SHOW FOR LISTENERS!THERE ARE NO PRE-SHOW RESERVATIONS FOR THE JAMS! SUGGESTED DONATION AT THE DOOR. $5.00 per person Our jams are all about sharing songs\, making new friends\, and enjoying a relaxing and casual evening of irresistible string band music. ALL are welcome to join the circle for an afternoon or evening playing and listening to classic grass\, new grass and folk favorites. We sometimes refer to our genre as eclectic acoustic. Red Spruce and Adirondack Song Dogs will kick off each session with a few tunes then open the floor for musicians to lead their favorite bluegrass tunes and folk music\, backed up by the other pickers in the gathering. Simple tunes are always popular! So sharpen up your axe\, come prepared with your song\, and let us hear some good old fast\, high and lonesome\, some slow and low\, or a good old favorite. All are welcome! What is a Slow Jam? It is a group of string instrument players and singers who get together to have fun making music. The “slow” modifier indicates that it is targeted to the following musicians: people who have been playing solo and want to get used to playing in a group setting: people who have just learned how to play and want to play with others; people who have instruments that have been gathering dust for a “few” years; experienced players who are trying out playing instruments other than their primary instrument; people who are comfortable playing their instrument but want to become more comfortable singing/leading a song.. The tunes are played at 80 to 110 BPM and usually in basic keys such a G\, A\, D\, C major\, but it always sounds great to play in some minor keys such as “a”\, “e”\, and “g”. We will try to avoid “jam busters.” It is our hope that after this experience you will feel more comfortable playing at the many open jams and open mics that can be found in our area. \n		\n	\n	\n	\n	\n	\n	\n	\n	\n	\n	\n		\n		Doors Open\n		Doors Open: 6:30 pm	\n	\n	\n\n		\n\n	\n		\n	\n						\n					Price\n					\n						Member\n						$34.70\n					\n				\n							\n					\n					\n						General\n						$39.04\n					\n				\n							\n					\n					\n						Child or Student\n						$19.52\n					\n				\n						\n				 \n				inclusive of fees\n			\n		\n	\n	\n	\n	\n	\n	\n		\n					\n				Get Tickets			\n			\n	\n	\n	\n	\n	\n		\n		\n			Similar Events\n			\n				View All\n				\n			\n		\n				\n			\n				\n\n											\n							\n\n	\n		\n		Caffè Lena\n	\n\n		\n\n		Leslie Mendelson\n\n				American Roots Folk Singer Songwriter\n		\n		\n			\n				\n								event\n			\n					\n\n		\n			Apr 23 • 7 PM		\n	\n	\n\n\n\n						\n												\n							\n\n	\n		\n		Caffè Lena\n	\n\n		\n\n		Captain Fun Lunchtime Listening Hour\n\n				American Roots\n		\n		\n			\n				\n								event\n			\n					\n\n		\n			Apr 24 • 12 PM		\n	\n	\n\n\n\n						\n												\n							\n\n	\n		\n		Caffè Lena\n	\n\n		\n\n		Alice Howe & Freebo\n\n				American Roots Blues Folk Singer Songwriter\n		\n		\n			\n				\n								event\n			\n					\n\n		\n			Apr 24 • 8 PM
URL:https://www.caffelena.org/event/school-of-music-slow-jam-4/2025-12-11/
LOCATION:Caffè Lena\, 47 Phila Street\, Saratoga Springs\, NY\, 12866\, United States
CATEGORIES:Class
ATTACH;FMTTYPE=image/png:https://www.caffelena.org/wp-content/uploads/2025/02/december-3-3.png
END:VEVENT
BEGIN:VEVENT
DTSTART;TZID=America/New_York:20251211T190000
DTEND;TZID=America/New_York:20251211T210000
DTSTAMP:20260421T143537
CREATED:20250909T181152Z
LAST-MODIFIED:20251203T191841Z
UID:10004077-1765479600-1765486800@www.caffelena.org
SUMMARY:Girl Love - EP Release Party w/ opener Dustin Lowman : An Overit Home Grown Show
DESCRIPTION:American Roots Blues Folk Singer Songwriter		\n\n		\n			Share:\n			\n								\n				\n					\n				\n\n				\n				\n					\n				\n\n				\n				\n					\n				\n\n				\n				\n					\n				\n			\n		\n\n	 \n\n\n \n\n\n\n\nGirl Love is the solo folk project of poet and songwriter Laura Beth Johnson\, an award-winning artist based in Upstate New York. Known for her dark blend of story and soul\, Laura creates music that affirms queer holiness through haunting melodies\, brash vocals\, and deeply personal storytelling. \n \nWinner of The Folk Project’s New Jersey Songwriter’s Contest\, Laura has been recognized with songwriting and poetry scholarships from Image Magazine\, Hudson Valley Writers Guild\, and Music Masters Collective. Her spoken word piece “Crazy and Special” earned the Lucy Monroe Brooker Poetry Prize in 2017\, and in 2024 she was selected as one of ten Capital Region songwriters for the INK Songwriter’s Retreat by SongCity of Troy. \n \nHer debut indie-folk album The Sorrow Estate introduced her as a fearless new voice\, and her 2023 sophomore release Girl Love was celebrated with a sold-out show right here at Caffè Lena. Along the way\, she shared the stage with Mary Gauthier\, Laurie MacAllister of Red Molly\, and Sawyer Fredericks. \n \nThis show is an EP Release Party for "Holy Now\," Girl Love's new record. The three-song EP Holy Now offers a bold and tender exploration of queer identity\, protest\, and radical love. Each track contributes to Girl Love’s mission of affirming queer holiness and uplifting LGBTQ+ stories. \n \nWith Holy Now\, Girl Love weaves together defiance\, joy\, and reverence—reimagining holiness through a queer lens.  \n \nSAMPLE SONG \n \nOpening for Girl Love is Brooklyn-based songwriter Dustin Lowman crafts lyric-driven songs that deconstruct the nonsense of everyday life. His self-taught blend of voice\, guitar\, and harmonica draws inspiration from troubadours like Bob Dylan\, Leonard Cohen\, Aimee Mann\, and Adrianne Lenker\, offering music that’s equal parts poignant and playfully absurd. \n \nDustin has shared stages with Marcellus Hall\, Will Dailey\, and Ira Wolf\, and hosts His Back Pages\, a Bob Dylan deep-cut series at Café Wha? in NYC’s West Village. With songs that straddle comedy and tragedy—like the darkly hopeful “Bankrupt & Crucified”—he’s been praised by Livingston Taylor as “the next real thing.” \n \nSAMPLE SONG \n \nExpect a night of music that’s raw\, poetic\, and unflinchingly authentic—songs that don’t just entertain\, but also invite us into deeper reflection and connection. \n \n Overit Home Grown Sessions is made possible by a generous gift from Overit – a full-service marketing and creative agency based in Upstate New York. \n \nStream this show live at CaffeLenaTV. Live stream available for $5 – 100% of live stream tickets on CaffeLenaTV benefit the artists. Subscribe for unlimited live streaming\, two week access to recent shows\, and Caffe Lena's video archive. \n \n﻿ \n \n﻿Note: Caffe Lena does not permit ticket reselling above face value. Tickets purchased for the purpose of resale may be canceled without notice\, and refunds for such purchases will not be granted.  \n \n \n\n\n\n\n \n\n\n	\n		Doors Open\n		Doors Open: 7:30 pm	\n	 \n \n	\n	\n						\n					Price\n					\n						Member\n						$23.86\n					\n				\n							\n					\n					\n						General\n						$27.11\n					\n				\n							\n					\n					\n						Child or Student\n						$13.56\n					\n				\n						\n				 \n				inclusive of fees\n			\n		\n	 \n \n	\n					\n				Get Tickets			\n					\n				Streaming\n			\n			\n	 \n\n\n \n	\n		\n			Similar Events\n			\n				View All\n				\n			\n		\n				\n			\n				\n\n											\n							\n\n	\n		\n		Caffè Lena\n	\n\n		\n\n		Leslie Mendelson\n\n				American Roots Folk Singer Songwriter\n		\n		\n			\n				\n								event\n			\n					\n\n		\n			Apr 23 • 7 PM		\n	\n	\n\n\n\n						\n												\n							\n\n	\n		\n		Caffè Lena\n	\n\n		\n\n		Captain Fun Lunchtime Listening Hour\n\n				American Roots\n		\n		\n			\n				\n								event\n			\n					\n\n		\n			Apr 24 • 12 PM		\n	\n	\n\n\n\n						\n												\n							\n\n	\n		\n		Caffè Lena\n	\n\n		\n\n		Tom Rush 2026\n\n				Folk\n		\n		\n			\n				\n								event\n			\n			Sold Out		\n\n		\n			Apr 26 • 4 PM
URL:https://www.caffelena.org/event/girl-love-with-opener-dustin-lowman/
LOCATION:Caffè Lena\, 47 Phila Street\, Saratoga Springs\, NY\, 12866\, United States
CATEGORIES:Event
ATTACH;FMTTYPE=image/png:https://www.caffelena.org/wp-content/uploads/2025/09/Eventbrite-Banners-48.png
END:VEVENT
END:VCALENDAR