BEGIN:VCALENDAR
VERSION:2.0
PRODID:-//Caffè Lena - ECPv6.15.18//NONSGML v1.0//EN
CALSCALE:GREGORIAN
METHOD:PUBLISH
X-WR-CALNAME:Caffè Lena
X-ORIGINAL-URL:https://www.caffelena.org
X-WR-CALDESC:Events for Caffè Lena
REFRESH-INTERVAL;VALUE=DURATION:PT1H
X-Robots-Tag:noindex
X-PUBLISHED-TTL:PT1H
BEGIN:VTIMEZONE
TZID:America/New_York
BEGIN:DAYLIGHT
TZOFFSETFROM:-0500
TZOFFSETTO:-0400
TZNAME:EDT
DTSTART:20240310T070000
END:DAYLIGHT
BEGIN:STANDARD
TZOFFSETFROM:-0400
TZOFFSETTO:-0500
TZNAME:EST
DTSTART:20241103T060000
END:STANDARD
BEGIN:DAYLIGHT
TZOFFSETFROM:-0500
TZOFFSETTO:-0400
TZNAME:EDT
DTSTART:20250309T070000
END:DAYLIGHT
BEGIN:STANDARD
TZOFFSETFROM:-0400
TZOFFSETTO:-0500
TZNAME:EST
DTSTART:20251102T060000
END:STANDARD
BEGIN:DAYLIGHT
TZOFFSETFROM:-0500
TZOFFSETTO:-0400
TZNAME:EDT
DTSTART:20260308T070000
END:DAYLIGHT
BEGIN:STANDARD
TZOFFSETFROM:-0400
TZOFFSETTO:-0500
TZNAME:EST
DTSTART:20261101T060000
END:STANDARD
END:VTIMEZONE
BEGIN:VEVENT
DTSTART;TZID=America/New_York:20250829T120000
DTEND;TZID=America/New_York:20250829T130000
DTSTAMP:20260421T081133
CREATED:20250821T161705Z
LAST-MODIFIED:20250911T221849Z
UID:10003976-1756468800-1756472400@www.caffelena.org
SUMMARY:Captain Fun Lunchtime Listening Hour
DESCRIPTION:Instructional		\n\n		\n			Share:\n			\n								\n				\n					\n				\n\n				\n				\n					\n				\n\n				\n				\n					\n				\n\n				\n				\n					\n				\n			\n		\n\n	\n	\n	\n	\n	\n	\n	\n	\n	Bring your lunch & listen to a playlist curated by a Caffe Lena Community member. For the August edition of the Captain Fun Lunchtime Listening Hour\, our playlist curator will be none other than Caffè Lena’s beloved Reese Fulmer! We haven’t heard Reese’s theme\, but knowing Reese – it will be great! The D.J. spinning those records will be the Rochmon himself – Chuck “Rochmon” Vosganian.  All are welcome to gather at Lena’s from Noon to 1 PM on the last Friday of each month to enjoy musical memories and new discoveries. The playlist is selected by a different community member each month from the Captain Fun Listening Library of vinyl records in Lena’s lobby. Bring a brown bag lunch. Coffee and tea are provided. The Captain Fun Listening Library occupying the north wall in the Caffè Lena lobby is comprised of 1\,516 vinyl albums and several hundred CDs selected from Al “Captain Fun” McKenney’s expertly curated collection. This treasure trove of folk\, blues and jazz was left us in 2015 and we share it through our monthly listening hour\, as Al wished.  Enjoy the memories these records bring back\, and dig deep into American roots music. \n		\n	\n	\n	\n	\n	\n	\n	\n	\n	\n	\n	\n	\n\n		\n\n	\n		\n	\n						\n					Price\n					\n						General\n						$120.00\n					\n				\n			\n	\n	\n	\n	\n	\n	\n		\n					\n				More Information			\n			\n	\n	\n	\n	\n	\n		\n		\n			Similar Events\n			\n				View All\n				\n			\n		\n				\n			\n				\n\n											\n							\n\n	\n		\n		Caffè Lena\n	\n\n		\n\n		Guitar Workshops with Bruce Thompson\n\n				Bluegrass Instructional Workshop\n		\n		\n			\n				\n								class\n			\n					\n\n		\n			Apr 23 • 9 AM		\n	\n	\n\n\n\n						\n												\n							\n\n	\n		\n		Caffè Lena\n	\n\n		\n\n		Music With Miss Deb\n\n				Family Folk Instructional Storytelling\n		\n		\n			\n				\n								class\n			\n					\n\n		\n			Apr 24 • 9:30 AM		\n	\n	\n\n\n\n						\n												\n							\n\n	\n		\n		Caffè Lena\n	\n\n		\n\n		Clawhammer Banjo with Carolyn Shapiro\n\n				American Roots Instructional\n		\n		\n			\n				\n								class\n			\n					\n\n		\n			Apr 28 • 3 PM
URL:https://www.caffelena.org/event/captain-fun-lunchtime-listening-hour-6/
LOCATION:Caffè Lena\, 47 Phila Street\, Saratoga Springs\, NY\, 12866\, United States
CATEGORIES:Event
ATTACH;FMTTYPE=image/png:https://www.caffelena.org/wp-content/uploads/2025/08/Newsletter-Photos-14.png
END:VEVENT
BEGIN:VEVENT
DTSTART;TZID=America/New_York:20250829T200000
DTEND;TZID=America/New_York:20250829T220000
DTSTAMP:20260421T081133
CREATED:20250514T174035Z
LAST-MODIFIED:20250814T031808Z
UID:10003752-1756497600-1756504800@www.caffelena.org
SUMMARY:Alexis P. Suter Band
DESCRIPTION:American Roots Instructional		\n\n		\n			Share:\n			\n								\n				\n					\n				\n\n				\n				\n					\n				\n\n				\n				\n					\n				\n\n				\n				\n					\n				\n			\n		\n\n	 \n\n\n \n\n\n\n\nRaised in Brooklyn by a musically gifted family\, Alexis P. Suter brings an unforgettable blend of passion\, soul\, and emotional power to every performance. With a voice described as a “molasses contralto” by Elmore Magazine\, Alexis can move effortlessly from a whisper to a wave of sound that radiates from the depths of her being. \n \nBacked by her longtime band—fellow Brooklyn natives Ray Grappone (drums)\, Jimmy Bennett (guitar)\, Daniel Weiss (keys)\, Peter Bennett (bass)\, and Vicki Bell (vocals/percussion)—Suter delivers a dynamic and heartfelt show. From rollicking roots numbers to funk-infused blues and tender ballads\, the Alexis P. Suter Band creates a connection that goes beyond the music. \n \nTogether for nearly two decades\, the band is now exploring new musical territory while staying true to the spirit that has earned them fans across the globe. Their performances are powerful\, joyful\, and deeply moving—drawing packed houses across the U.S. and Europe\, and making each show a must-see event. \n \nSAMPLE SONG  \n \nJoin us at Caffè Lena for a night of raw emotion\, powerhouse musicianship\, and songs that will lift you up and leave a lasting impression. Don’t miss this one-of-a-kind Americana and blues – soul experience.   \n \n﻿Stream this show live at CaffeLenaTV. Enjoy two weeks of access with your live stream ticket. \n \n﻿Note: Caffe Lena does not permit ticket reselling above face value. Tickets purchased for the purpose of resale may be canceled without notice\, and refunds for such purchases will not be granted. \n \n﻿ \n \n \n\n\n\n\n \n\n\n \n \n	\n	\n						\n					Price\n					\n						General\n						$120.00\n					\n				\n			\n	 \n \n	\n					\n				More Information			\n			\n	 \n\n\n \n	\n		\n			Similar Events\n			\n				View All\n				\n			\n		\n				\n			\n				\n\n											\n							\n\n	\n		\n		Caffè Lena\n	\n\n		\n\n		Folk Club Kids\n\n				American Roots Bluegrass Celtic Family Folk\n		\n		\n			\n				\n								class\n			\n					\n\n		\n			Apr 22 • 10:30 AM		\n	\n	\n\n\n\n						\n												\n							\n\n	\n		\n		Caffè Lena\n	\n\n		\n\n		After School Folk Ensemble with James Gascoyne and Oona Grady\n\n				American Roots Bluegrass Celtic Country Folk Workshop\n		\n		\n			\n				\n								class\n			\n					\n\n		\n			Apr 22 • 2:30 PM		\n	\n	\n\n\n\n						\n												\n							\n\n	\n		\n		Caffè Lena\n	\n\n		\n\n		Guitar Workshops with Bruce Thompson\n\n				Bluegrass Instructional Workshop\n		\n		\n			\n				\n								class\n			\n					\n\n		\n			Apr 23 • 9 AM
URL:https://www.caffelena.org/event/momentum-series-alexis-p-suter-band/
LOCATION:Caffè Lena\, 47 Phila Street\, Saratoga Springs\, NY\, 12866\, United States
CATEGORIES:Event
ATTACH;FMTTYPE=image/jpeg:https://www.caffelena.org/wp-content/uploads/2025/05/Eventbrite-Banners-54.jpg
END:VEVENT
END:VCALENDAR