BEGIN:VCALENDAR
VERSION:2.0
PRODID:-//Caffè Lena - ECPv6.15.18//NONSGML v1.0//EN
CALSCALE:GREGORIAN
METHOD:PUBLISH
X-WR-CALNAME:Caffè Lena
X-ORIGINAL-URL:https://www.caffelena.org
X-WR-CALDESC:Events for Caffè Lena
REFRESH-INTERVAL;VALUE=DURATION:PT1H
X-Robots-Tag:noindex
X-PUBLISHED-TTL:PT1H
BEGIN:VTIMEZONE
TZID:America/New_York
BEGIN:DAYLIGHT
TZOFFSETFROM:-0500
TZOFFSETTO:-0400
TZNAME:EDT
DTSTART:20240310T070000
END:DAYLIGHT
BEGIN:STANDARD
TZOFFSETFROM:-0400
TZOFFSETTO:-0500
TZNAME:EST
DTSTART:20241103T060000
END:STANDARD
BEGIN:DAYLIGHT
TZOFFSETFROM:-0500
TZOFFSETTO:-0400
TZNAME:EDT
DTSTART:20250309T070000
END:DAYLIGHT
BEGIN:STANDARD
TZOFFSETFROM:-0400
TZOFFSETTO:-0500
TZNAME:EST
DTSTART:20251102T060000
END:STANDARD
BEGIN:DAYLIGHT
TZOFFSETFROM:-0500
TZOFFSETTO:-0400
TZNAME:EDT
DTSTART:20260308T070000
END:DAYLIGHT
BEGIN:STANDARD
TZOFFSETFROM:-0400
TZOFFSETTO:-0500
TZNAME:EST
DTSTART:20261101T060000
END:STANDARD
END:VTIMEZONE
BEGIN:VEVENT
DTSTART;TZID=America/New_York:20250827T103000
DTEND;TZID=America/New_York:20250827T110000
DTSTAMP:20260421T064847
CREATED:20250206T151033Z
LAST-MODIFIED:20250617T195936Z
UID:10003794-1756290600-1756292400@www.caffelena.org
SUMMARY:Folk Club Kids
DESCRIPTION:Instructional		\n\n		\n			Share:\n			\n								\n				\n					\n				\n\n				\n				\n					\n				\n\n				\n				\n					\n				\n\n				\n				\n					\n				\n			\n		\n\n	\n	\n	\n	\n	\n	\n	\n	\n	Folk Club Kids: Stories\, Songs\, and Sing-a-longs Wednesdays 10:30 a.m. – 11:00 a.m. https://www.caffelena.org/folk-club-kids/ Stream live and free on Facebook and Youtube! Join Dan Berggren and Drank the Gold’s Oona Grady and James Gascoyne for Folk Club Kids: a free weekly interactive concert series for preschoolers and their caregivers. Children are treated to 30 minutes of live music in a welcoming\, inclusive environment. Inspire a love of music\, community\, and togetherness each week\, learn\, play\, make friends and have fun! This program is made possible by the generous support of Kevin & Claudia Bright. #youthclass \n		\n	\n	\n	\n	\n	\n	\n	\n	\n	\n	\n	\n	\n\n		\n\n	\n		\n	\n						\n					Price\n					\n						General\n						$120.00\n					\n				\n			\n	\n	\n	\n	\n	\n	\n		\n					\n				More Information			\n			\n	\n	\n	\n	\n	\n		\n		\n			Similar Events\n			\n				View All\n				\n			\n		\n				\n			\n				\n\n											\n							\n\n	\n		\n		Caffè Lena\n	\n\n		\n\n		Guitar Workshops with Bruce Thompson\n\n				Bluegrass Instructional Workshop\n		\n		\n			\n				\n								class\n			\n					\n\n		\n			Apr 23 • 9 AM		\n	\n	\n\n\n\n						\n												\n							\n\n	\n		\n		Caffè Lena\n	\n\n		\n\n		Music With Miss Deb\n\n				Family Folk Instructional Storytelling\n		\n		\n			\n				\n								class\n			\n					\n\n		\n			Apr 24 • 9:30 AM		\n	\n	\n\n\n\n						\n												\n							\n\n	\n		\n		Caffè Lena\n	\n\n		\n\n		Clawhammer Banjo with Carolyn Shapiro\n\n				American Roots Instructional\n		\n		\n			\n				\n								class\n			\n					\n\n		\n			Apr 28 • 3 PM
URL:https://www.caffelena.org/event/folk-club-kids/2025-08-27/
LOCATION:Caffè Lena\, 47 Phila Street\, Saratoga Springs\, NY\, 12866\, United States
CATEGORIES:Class
ATTACH;FMTTYPE=image/png:https://www.caffelena.org/wp-content/uploads/2025/02/Untitled-design-6.png
END:VEVENT
BEGIN:VEVENT
DTSTART;TZID=America/New_York:20250827T193000
DTEND;TZID=America/New_York:20250827T213000
DTSTAMP:20260421T064847
CREATED:20250226T045327Z
LAST-MODIFIED:20250818T215551Z
UID:10003550-1756323000-1756330200@www.caffelena.org
SUMMARY:Lena Go Round-Songwriters Showcase Hosted by Erin Harkes
DESCRIPTION:American Roots Instructional		\n\n		\n			Share:\n			\n								\n				\n					\n				\n\n				\n				\n					\n				\n\n				\n				\n					\n				\n\n				\n				\n					\n				\n			\n		\n\n	 \n\n\n \n\n\n\n\nFor 65 years\, Caffè Lena has been a place where great artists get their start—a stage where music is more than just sound; it’s stories\, community\, and discovery. The Lena Go Round continues that tradition\, offering a monthly showcase of rising songwriting talent\, curated and hosted by powerhouse musician\, comedian\, entrepreneur\, and all around powerhouse\, Erin Harkes. \n \nWhat makes Lena Go Round special? \n \n\nIt is a curated lineup of the best up-and-coming songwriters—handpicked to deliver unforgettable performances\nIt is a true “in the round” experience—where songwriters take turns sharing their music and stories\, creating an intimate and inspiring atmosphere\nIt is a direct link to Caffè Lena’s legacy—this stage launched careers\, and Lena Go Round continues to nurture the next generation of folk\, Americana\, and indie artists\n\nThe lineup changes every month\, but one thing is constant: you will always hear something fresh\, moving\, and unforgettable. Whether you're a lifelong folk fan or just love discovering the next big thing\, Lena Go Round is the place to be. \n \nAugust's line-up is Belle-Skinner\, Ryan Liddick\, Ben Zoleski\, and Erin! \n \nBelle-Skinner is a dark nostalgic singer-songwriter based in New York. With a hauntingly beautiful\, lilting soprano and innate sense of melody she crafts tales of songbirds\, sirens and desert nomads – nuanced and layered stories which bridge the gap between past and present. Though her influences cover a broad range of genres – from French chansons and Russian folk to contemporary alt-pop and rock – her voice often draws comparisons to the likes of Joni Mitchell\, Kate Bush\, Jeff Buckley\, Mary Hopkin\, and early St. Vincent. \n \nRyan Leddick is a queer folk/rock artist whose music is rooted in a childhood listening to classic rock and the folk music of his native Adirondacks—as well as anything else he could get to work on his parents’ sound system. The result is a distinctive fusion of life experience\, diverse influences and a strong artistic vision. When you listen to his music\, you can hear all of that echo in his unique sound. Leddick\, who has shared the stage with Damien Rice\, Of Good Nature\, and Brian Dunne to name a few\, is also a formally trained vocalist and has toured the Northeast for the better part of a decade\, in both group and solo acts. He’s now based in Troy\, New York\, and continues to travel regionally to perform for crowds large and small.   \n \nBen Zoleski is a multi-instrumental songwriter\, producer and music director. He has been writing songs for 20 years. Once told that a song of his was "exceptional songwriting" by Livingston Taylor\, Ben tries to create songs that will resonate with listeners and that they can find a bit of themselves in. He has toured the country and Asia as part of the music direction team for Andrew Lloyd Webber's "School of Rock: the Musical". Currently\, Ben also plays guitar with Margo Macero\, keys in the band HARK\, and is part of the acoustic duo Gianna + Ben. Other artists and groups Ben has played for include David J\, Bea Miller\, Moriah Formica\, Sirsy and The Refrigerators. Ben resides in Schenectady\, NY with his wife Courtney\, daughter Eleanor and cat Atticus. His debut album of original material is currently in the works.  \n \nErin Harkes \n \nCome be part of a Capital District must-see event\, where the best of the best take the stage before the world catches on. \n \nSAMPLE SONG  \n \nStream this show live at Caffè Lena TV. Enjoy two weeks of access with your live stream ticket. \n \n﻿Note: Caffe Lena does not permit ticket reselling above face value. Tickets purchased for the purpose of resale may be canceled without notice\, and refunds for such purchases will not be granted. \n \n﻿ \n \n  \n \n \n\n\n\n\n \n\n\n \n \n	\n	\n						\n					Price\n					\n						General\n						$120.00\n					\n				\n			\n	 \n \n	\n					\n				More Information			\n			\n	 \n\n\n \n	\n		\n			Similar Events\n			\n				View All\n				\n			\n		\n				\n			\n				\n\n											\n							\n\n	\n		\n		Caffè Lena\n	\n\n		\n\n		Folk Club Kids\n\n				American Roots Bluegrass Celtic Family Folk\n		\n		\n			\n				\n								class\n			\n					\n\n		\n			Apr 22 • 10:30 AM		\n	\n	\n\n\n\n						\n												\n							\n\n	\n		\n		Caffè Lena\n	\n\n		\n\n		After School Folk Ensemble with James Gascoyne and Oona Grady\n\n				American Roots Bluegrass Celtic Country Folk Workshop\n		\n		\n			\n				\n								class\n			\n					\n\n		\n			Apr 22 • 2:30 PM		\n	\n	\n\n\n\n						\n												\n							\n\n	\n		\n		Caffè Lena\n	\n\n		\n\n		Guitar Workshops with Bruce Thompson\n\n				Bluegrass Instructional Workshop\n		\n		\n			\n				\n								class\n			\n					\n\n		\n			Apr 23 • 9 AM
URL:https://www.caffelena.org/event/lena-go-round-songwriters-showcase-hosted-by-erin-harkes-7/
LOCATION:Caffè Lena\, 47 Phila Street\, Saratoga Springs\, NY\, 12866\, United States
CATEGORIES:Event
ATTACH;FMTTYPE=image/png:https://www.caffelena.org/wp-content/uploads/2025/02/image-4.png
END:VEVENT
END:VCALENDAR