BEGIN:VCALENDAR
VERSION:2.0
PRODID:-//Caffè Lena - ECPv6.15.18//NONSGML v1.0//EN
CALSCALE:GREGORIAN
METHOD:PUBLISH
X-WR-CALNAME:Caffè Lena
X-ORIGINAL-URL:https://www.caffelena.org
X-WR-CALDESC:Events for Caffè Lena
REFRESH-INTERVAL;VALUE=DURATION:PT1H
X-Robots-Tag:noindex
X-PUBLISHED-TTL:PT1H
BEGIN:VTIMEZONE
TZID:America/New_York
BEGIN:DAYLIGHT
TZOFFSETFROM:-0500
TZOFFSETTO:-0400
TZNAME:EDT
DTSTART:20240310T070000
END:DAYLIGHT
BEGIN:STANDARD
TZOFFSETFROM:-0400
TZOFFSETTO:-0500
TZNAME:EST
DTSTART:20241103T060000
END:STANDARD
BEGIN:DAYLIGHT
TZOFFSETFROM:-0500
TZOFFSETTO:-0400
TZNAME:EDT
DTSTART:20250309T070000
END:DAYLIGHT
BEGIN:STANDARD
TZOFFSETFROM:-0400
TZOFFSETTO:-0500
TZNAME:EST
DTSTART:20251102T060000
END:STANDARD
BEGIN:DAYLIGHT
TZOFFSETFROM:-0500
TZOFFSETTO:-0400
TZNAME:EDT
DTSTART:20260308T070000
END:DAYLIGHT
BEGIN:STANDARD
TZOFFSETFROM:-0400
TZOFFSETTO:-0500
TZNAME:EST
DTSTART:20261101T060000
END:STANDARD
END:VTIMEZONE
BEGIN:VEVENT
DTSTART;TZID=America/New_York:20250822T170000
DTEND;TZID=America/New_York:20250822T190000
DTSTAMP:20260421T064847
CREATED:20250502T152007Z
LAST-MODIFIED:20250814T171329Z
UID:10003706-1755882000-1755889200@www.caffelena.org
SUMMARY:Momentum Series: Jake Shimabukuro
DESCRIPTION:Instructional		\n\n		\n			Share:\n			\n								\n				\n					\n				\n\n				\n				\n					\n				\n\n				\n				\n					\n				\n\n				\n				\n					\n				\n			\n		\n\n	\n	\n	\n	\n	\n	\n	\n	\n	With lightning-fast fingers and a boundless imagination\, ukulele trailblazer\, Jake Shimabukuro has redefined what the ukulele can do. From tender ballads to jaw-dropping\, genre-bending solos\, he’s captivated audiences around the world — from the Sydney Opera House to New Orleans Jazz Fest. Now\, this singular artist brings his exhilarating live show to Caffè Lena.  Taught by his mother at the age of four\, Jake’s lifelong love of the ukulele catapulted him to viral fame with his transcendent cover of George Harrison’s While My Guitar Gently Weeps. He quickly became an international sensation\, recording over a dozen acclaimed albums and collaborating with icons including Yo-Yo Ma\, Béla Fleck\, Jimmy Buffett\, Bette Midler\, Willie Nelson\, and Warren Haynes. In 2021\, he was even nominated by President Biden to serve on the National Council on the Arts. Jake’s latest project\, Blues Experience\, finds him exploring new sonic territory alongside legendary drummer Mick Fleetwood. The collaboration brings Jake’s signature artistry into the heart of the blues — weaving psychedelic flourishes\, soulful grooves\, and raw emotion into beloved classics and originals alike. The album features reinterpretations of timeless songs like Rollin' N Tumblin’\, Songbird\, and Rockin’ in the Free World\, alongside powerful originals inspired by life\, loss\, and the spirit of collaboration. Blending spontaneity with deep connection\, Jake’s live performances are known for their joyous energy\, inventive spirit\, and moving moments of intimacy. Whether strumming delicate melodies or igniting a full-throttle jam\, he turns every song into an unforgettable experience. SAMPLE SONG ﻿Made possible by the generous support of Joseph & Luann Conlon\, in honor of Thom O'Neil.  Can't make it in person? Stream this show live at Caffè Lena TV. Enjoy two weeks of access with your live stream ticket.   Note: Caffe Lena does not permit ticket reselling above face value. Tickets purchased for the purpose of resale may be canceled without notice\, and refunds for such purchases will not be granted. ﻿ \n		\n	\n	\n	\n	\n	\n	\n	\n	\n	\n	\n	\n	\n\n		\n\n	\n		\n	\n						\n					Price\n					\n						General\n						$120.00\n					\n				\n			\n	\n	\n	\n	\n	\n	\n		\n					\n				More Information			\n			\n	\n	\n	\n	\n	\n		\n		\n			Similar Events\n			\n				View All\n				\n			\n		\n				\n			\n				\n\n											\n							\n\n	\n		\n		Caffè Lena\n	\n\n		\n\n		Guitar Workshops with Bruce Thompson\n\n				Bluegrass Instructional Workshop\n		\n		\n			\n				\n								class\n			\n					\n\n		\n			Apr 23 • 9 AM		\n	\n	\n\n\n\n						\n												\n							\n\n	\n		\n		Caffè Lena\n	\n\n		\n\n		Music With Miss Deb\n\n				Family Folk Instructional Storytelling\n		\n		\n			\n				\n								class\n			\n					\n\n		\n			Apr 24 • 9:30 AM		\n	\n	\n\n\n\n						\n												\n							\n\n	\n		\n		Caffè Lena\n	\n\n		\n\n		Clawhammer Banjo with Carolyn Shapiro\n\n				American Roots Instructional\n		\n		\n			\n				\n								class\n			\n					\n\n		\n			Apr 28 • 3 PM
URL:https://www.caffelena.org/event/jake-shimabukuro/
LOCATION:Caffè Lena\, 47 Phila Street\, Saratoga Springs\, NY\, 12866\, United States
CATEGORIES:Event
ATTACH;FMTTYPE=image/jpeg:https://www.caffelena.org/wp-content/uploads/2025/05/CreditSiennaMorales_034-1-scaled-1.jpg
END:VEVENT
BEGIN:VEVENT
DTSTART;TZID=America/New_York:20250822T200000
DTEND;TZID=America/New_York:20250822T220000
DTSTAMP:20260421T064848
CREATED:20250522T212217Z
LAST-MODIFIED:20250814T171441Z
UID:10003770-1755892800-1755900000@www.caffelena.org
SUMMARY:Momentum Series: Jake Shimabukuro
DESCRIPTION:American Roots Instructional		\n\n		\n			Share:\n			\n								\n				\n					\n				\n\n				\n				\n					\n				\n\n				\n				\n					\n				\n\n				\n				\n					\n				\n			\n		\n\n	 \n\n\n \n\n\n\n\nWith lightning-fast fingers and a boundless imagination\, ukulele trailblazer\, Jake Shimabukuro has redefined what the ukulele can do. From tender ballads to jaw-dropping\, genre-bending solos\, he’s captivated audiences around the world — from the Sydney Opera House to New Orleans Jazz Fest. Now\, this singular artist brings his exhilarating live show to Caffè Lena.  \n \nTaught by his mother at the age of four\, Jake’s lifelong love of the ukulele catapulted him to viral fame with his transcendent cover of George Harrison’s While My Guitar Gently Weeps. He quickly became an international sensation\, recording over a dozen acclaimed albums and collaborating with icons including Yo-Yo Ma\, Béla Fleck\, Jimmy Buffett\, Bette Midler\, Willie Nelson\, and Warren Haynes. In 2021\, he was even nominated by President Biden to serve on the National Council on the Arts. \n \nJake’s latest project\, Blues Experience\, finds him exploring new sonic territory alongside legendary drummer Mick Fleetwood. The collaboration brings Jake’s signature artistry into the heart of the blues — weaving psychedelic flourishes\, soulful grooves\, and raw emotion into beloved classics and originals alike. The album features reinterpretations of timeless songs like Rollin' N Tumblin’\, Songbird\, and Rockin’ in the Free World\, alongside powerful originals inspired by life\, loss\, and the spirit of collaboration. \n \nBlending spontaneity with deep connection\, Jake’s live performances are known for their joyous energy\, inventive spirit\, and moving moments of intimacy. Whether strumming delicate melodies or igniting a full-throttle jam\, he turns every song into an unforgettable experience. \n \nSAMPLE SONG \n \n﻿Made possible by the generous support of Joseph & Luann Conlon\, in honor of Thom O'Neil.  \n \nCan't make it in person? Stream this show live at Caffè Lena TV. Enjoy two weeks of access with your live stream ticket. \n \n﻿Note: Caffe Lena does not permit ticket reselling above face value. Tickets purchased for the purpose of resale may be canceled without notice\, and refunds for such purchases will not be granted. \n \n \n\n\n\n\n \n\n\n \n \n	\n	\n						\n					Price\n					\n						General\n						$120.00\n					\n				\n			\n	 \n \n	\n					\n				More Information			\n			\n	 \n\n\n \n	\n		\n			Similar Events\n			\n				View All\n				\n			\n		\n				\n			\n				\n\n											\n							\n\n	\n		\n		Caffè Lena\n	\n\n		\n\n		Folk Club Kids\n\n				American Roots Bluegrass Celtic Family Folk\n		\n		\n			\n				\n								class\n			\n					\n\n		\n			Apr 22 • 10:30 AM		\n	\n	\n\n\n\n						\n												\n							\n\n	\n		\n		Caffè Lena\n	\n\n		\n\n		After School Folk Ensemble with James Gascoyne and Oona Grady\n\n				American Roots Bluegrass Celtic Country Folk Workshop\n		\n		\n			\n				\n								class\n			\n					\n\n		\n			Apr 22 • 2:30 PM		\n	\n	\n\n\n\n						\n												\n							\n\n	\n		\n		Caffè Lena\n	\n\n		\n\n		Guitar Workshops with Bruce Thompson\n\n				Bluegrass Instructional Workshop\n		\n		\n			\n				\n								class\n			\n					\n\n		\n			Apr 23 • 9 AM
URL:https://www.caffelena.org/event/jake-shimabukuro-2/
LOCATION:Caffè Lena\, 47 Phila Street\, Saratoga Springs\, NY\, 12866\, United States
CATEGORIES:Event
ATTACH;FMTTYPE=image/jpeg:https://www.caffelena.org/wp-content/uploads/2025/05/Copy-of-Copy-of-Eventbrite-Banners-16.jpg
END:VEVENT
END:VCALENDAR