BEGIN:VCALENDAR
VERSION:2.0
PRODID:-//Caffè Lena - ECPv6.15.18//NONSGML v1.0//EN
CALSCALE:GREGORIAN
METHOD:PUBLISH
X-ORIGINAL-URL:https://www.caffelena.org
X-WR-CALDESC:Events for Caffè Lena
REFRESH-INTERVAL;VALUE=DURATION:PT1H
X-Robots-Tag:noindex
X-PUBLISHED-TTL:PT1H
BEGIN:VTIMEZONE
TZID:America/New_York
BEGIN:DAYLIGHT
TZOFFSETFROM:-0500
TZOFFSETTO:-0400
TZNAME:EDT
DTSTART:20240310T070000
END:DAYLIGHT
BEGIN:STANDARD
TZOFFSETFROM:-0400
TZOFFSETTO:-0500
TZNAME:EST
DTSTART:20241103T060000
END:STANDARD
BEGIN:DAYLIGHT
TZOFFSETFROM:-0500
TZOFFSETTO:-0400
TZNAME:EDT
DTSTART:20250309T070000
END:DAYLIGHT
BEGIN:STANDARD
TZOFFSETFROM:-0400
TZOFFSETTO:-0500
TZNAME:EST
DTSTART:20251102T060000
END:STANDARD
BEGIN:DAYLIGHT
TZOFFSETFROM:-0500
TZOFFSETTO:-0400
TZNAME:EDT
DTSTART:20260308T070000
END:DAYLIGHT
BEGIN:STANDARD
TZOFFSETFROM:-0400
TZOFFSETTO:-0500
TZNAME:EST
DTSTART:20261101T060000
END:STANDARD
END:VTIMEZONE
BEGIN:VEVENT
DTSTART;TZID=America/New_York:20250813T103000
DTEND;TZID=America/New_York:20250813T110000
DTSTAMP:20260421T064825
CREATED:20250206T151033Z
LAST-MODIFIED:20250617T195936Z
UID:10003792-1755081000-1755082800@www.caffelena.org
SUMMARY:Folk Club Kids
DESCRIPTION:Instructional		\n\n		\n			Share:\n			\n								\n				\n					\n				\n\n				\n				\n					\n				\n\n				\n				\n					\n				\n\n				\n				\n					\n				\n			\n		\n\n	\n	\n	\n	\n	\n	\n	\n	\n	Folk Club Kids: Stories\, Songs\, and Sing-a-longs Wednesdays 10:30 a.m. – 11:00 a.m. https://www.caffelena.org/folk-club-kids/ Stream live and free on Facebook and Youtube! Join Dan Berggren and Drank the Gold’s Oona Grady and James Gascoyne for Folk Club Kids: a free weekly interactive concert series for preschoolers and their caregivers. Children are treated to 30 minutes of live music in a welcoming\, inclusive environment. Inspire a love of music\, community\, and togetherness each week\, learn\, play\, make friends and have fun! This program is made possible by the generous support of Kevin & Claudia Bright. #youthclass \n		\n	\n	\n	\n	\n	\n	\n	\n	\n	\n	\n	\n	\n\n		\n\n	\n		\n	\n						\n					Price\n					\n						General\n						$120.00\n					\n				\n			\n	\n	\n	\n	\n	\n	\n		\n					\n				More Information			\n			\n	\n	\n	\n	\n	\n		\n		\n			Similar Events\n			\n				View All\n				\n			\n		\n				\n			\n				\n\n											\n							\n\n	\n		\n		Caffè Lena\n	\n\n		\n\n		Guitar Workshops with Bruce Thompson\n\n				Bluegrass Instructional Workshop\n		\n		\n			\n				\n								class\n			\n					\n\n		\n			Apr 23 • 9 AM		\n	\n	\n\n\n\n						\n												\n							\n\n	\n		\n		Caffè Lena\n	\n\n		\n\n		Music With Miss Deb\n\n				Family Folk Instructional Storytelling\n		\n		\n			\n				\n								class\n			\n					\n\n		\n			Apr 24 • 9:30 AM		\n	\n	\n\n\n\n						\n												\n							\n\n	\n		\n		Caffè Lena\n	\n\n		\n\n		Clawhammer Banjo with Carolyn Shapiro\n\n				American Roots Instructional\n		\n		\n			\n				\n								class\n			\n					\n\n		\n			Apr 28 • 3 PM
URL:https://www.caffelena.org/event/folk-club-kids/2025-08-13/
LOCATION:Caffè Lena\, 47 Phila Street\, Saratoga Springs\, NY\, 12866\, United States
CATEGORIES:Class
ATTACH;FMTTYPE=image/png:https://www.caffelena.org/wp-content/uploads/2025/02/Untitled-design-6.png
END:VEVENT
BEGIN:VEVENT
DTSTART;TZID=America/New_York:20250813T190000
DTEND;TZID=America/New_York:20250813T210000
DTSTAMP:20260421T064825
CREATED:20250711T161206Z
LAST-MODIFIED:20250804T050130Z
UID:10003896-1755111600-1755118800@www.caffelena.org
SUMMARY:Caffè Lena School of Music Presents: The Rolling Pebbles & The Jazz Pebbles
DESCRIPTION:American Roots Instructional		\n\n		\n			Share:\n			\n								\n				\n					\n				\n\n				\n				\n					\n				\n\n				\n				\n					\n				\n\n				\n				\n					\n				\n			\n		\n\n	 \n\n\n \n\n\n\n\nCelebrate the future of folk\, jazz\, and joyful music-making with The Rolling Pebbles and The Jazz Pebbles\, two inspiring ensembles from the Caffè Lena School of Music. \n \nThe Rolling Pebbles are the senior members of our School of Music—a spirited group of dedicated young musicians ages 10 to 16 who have been rehearsing and performing together since 2020. Under the expert guidance of instructors (who are also accomplished musicians)\, Oona Grady\, James Gascoyne\, and Matt Griffin\, these talented students have grown into a polished band with a deep love for roots\, folk\, and acoustic traditions. They've performed at farmers markets\, community festivals\, and even opened for folk legends Sally Rogers and Claudia Schmidt on the Caffè Lena stage. \n \nIn 2024\, several of The Rolling Pebbles members ventured into new musical territory and formed The Jazz Pebbles\, a fresh ensemble exploring improvisation and jazz standards with creativity and groove. Though still new to the stage\, The Jazz Pebbles are already turning heads with their energy and musical curiosity. \n \nThese ensembles embody the heart of The Caffè Lena School of Music: creativity\, collaboration and community. \n \nStream this show live at Caffè Lena TV. Enjoy two weeks of access with your live stream ticket. \n \nJoin us for an evening of inspiring music from the next generation!  \n \n \n\n\n\n\n \n\n\n \n \n	\n	\n						\n					Price\n					\n						General\n						$120.00\n					\n				\n			\n	 \n \n	\n					\n				More Information			\n			\n	 \n\n\n \n	\n		\n			Similar Events\n			\n				View All\n				\n			\n		\n				\n			\n				\n\n											\n							\n\n	\n		\n		Caffè Lena\n	\n\n		\n\n		Folk Club Kids\n\n				American Roots Bluegrass Celtic Family Folk\n		\n		\n			\n				\n								class\n			\n					\n\n		\n			Apr 22 • 10:30 AM		\n	\n	\n\n\n\n						\n												\n							\n\n	\n		\n		Caffè Lena\n	\n\n		\n\n		After School Folk Ensemble with James Gascoyne and Oona Grady\n\n				American Roots Bluegrass Celtic Country Folk Workshop\n		\n		\n			\n				\n								class\n			\n					\n\n		\n			Apr 22 • 2:30 PM		\n	\n	\n\n\n\n						\n												\n							\n\n	\n		\n		Caffè Lena\n	\n\n		\n\n		Guitar Workshops with Bruce Thompson\n\n				Bluegrass Instructional Workshop\n		\n		\n			\n				\n								class\n			\n					\n\n		\n			Apr 23 • 9 AM
URL:https://www.caffelena.org/event/caffe-lena-school-of-music-presents-the-rolling-pebbles-the-jazz-pebbles/
LOCATION:Caffè Lena\, 47 Phila Street\, Saratoga Springs\, NY\, 12866\, United States
CATEGORIES:Event
ATTACH;FMTTYPE=image/png:https://www.caffelena.org/wp-content/uploads/2025/07/image-9.png
END:VEVENT
END:VCALENDAR