BEGIN:VCALENDAR
VERSION:2.0
PRODID:-//Caffè Lena - ECPv6.15.18//NONSGML v1.0//EN
CALSCALE:GREGORIAN
METHOD:PUBLISH
X-WR-CALNAME:Caffè Lena
X-ORIGINAL-URL:https://www.caffelena.org
X-WR-CALDESC:Events for Caffè Lena
REFRESH-INTERVAL;VALUE=DURATION:PT1H
X-Robots-Tag:noindex
X-PUBLISHED-TTL:PT1H
BEGIN:VTIMEZONE
TZID:America/New_York
BEGIN:DAYLIGHT
TZOFFSETFROM:-0500
TZOFFSETTO:-0400
TZNAME:EDT
DTSTART:20240310T070000
END:DAYLIGHT
BEGIN:STANDARD
TZOFFSETFROM:-0400
TZOFFSETTO:-0500
TZNAME:EST
DTSTART:20241103T060000
END:STANDARD
BEGIN:DAYLIGHT
TZOFFSETFROM:-0500
TZOFFSETTO:-0400
TZNAME:EDT
DTSTART:20250309T070000
END:DAYLIGHT
BEGIN:STANDARD
TZOFFSETFROM:-0400
TZOFFSETTO:-0500
TZNAME:EST
DTSTART:20251102T060000
END:STANDARD
BEGIN:DAYLIGHT
TZOFFSETFROM:-0500
TZOFFSETTO:-0400
TZNAME:EDT
DTSTART:20260308T070000
END:DAYLIGHT
BEGIN:STANDARD
TZOFFSETFROM:-0400
TZOFFSETTO:-0500
TZNAME:EST
DTSTART:20261101T060000
END:STANDARD
END:VTIMEZONE
BEGIN:VEVENT
DTSTART;TZID=America/New_York:20250812T190000
DTEND;TZID=America/New_York:20250812T210000
DTSTAMP:20260421T064848
CREATED:20250612T153111Z
LAST-MODIFIED:20250814T032222Z
UID:10003866-1755025200-1755032400@www.caffelena.org
SUMMARY:Chuck Lamb\, Jorge Gomez: Cuban Fusion w/ Ria Curley Nu-Soul-Jaz Collab
DESCRIPTION:Instructional		\n\n		\n			Share:\n			\n								\n				\n					\n				\n\n				\n				\n					\n				\n\n				\n				\n					\n				\n\n				\n				\n					\n				\n			\n		\n\n	\n	\n	\n	\n	\n	\n	\n	\n	﻿Seating is SOLD OUT but\, there will be STANDING ROOM TICKETS AVAILABLE AT THE DOOR! PLEASE COME EARLY AS THE STANDING ROOM TICKETS ARE FIRST COME FIRST SERVE. Prepare for an electrifying double bill as Caffè Lena and Putnam Place present Chuck Lamb\, Jorge Gómez & the Cuban Fusion Jazz Collab sharing the stage with curtain-raising Ria Curley Nu-Soul-Jaz Collab featuring Chuck Lamb—two dynamic ensembles bringing jazz to life with passion\, energy\, and genre-defying style at Putnam Place\, located at 63 Putnam St\, Saratoga Springs\, NY 12866. Chuck Lamb\, Jorge Gómez & the Cuban Fusion Jazz Collab  Caffè Lena’s resident jazz pianist Chuck Lamb\, longtime member of the Brubeck Brothers Quartet\, is known for his expressive playing and genre-blending compositions that span jazz\, classical\, fusion\, and world music. Lamb brings his signature artistry and improvisational fire to this special collaboration with Jorge Gómez—Havana-born pianist\, composer\, and founder of the three-time Grammy-nominated band Tiempo Libre. Known for their powerful blend of Latin jazz and Cuban timba\, Gómez’s compositions have been praised by The New York Times and performed alongside legends like Gloria Estefan\, Joshua Bell\, and Sir James Galway. Together\, Lamb and Gómez lead a high-voltage ensemble that fuses jazz\, funk\, classical\, and Cuban traditions—all performed with fiery virtuosity and soulful flair. SAMPLE SONG Ria Curley & the Nu-Soul-Jaz Collab featuring Chuck Lamb Singer-songwriter Ria Curley brings a warm\, sensual voice and a thoughtful blend of jazz\, soul\, and R&B to her original songs. Her music explores love\, growth\, and connection anchored by uplifting lyrics and irresistible grooves by the Nu-Soul-Jaz Collab featuring Chuck Lamb. Curley approaches performance as a form of storytelling\, drawing audiences into an experience that’s both intimate and energizing. SAMPLE SONG Victoria Paterson\, founder of the Mostly Modern Festival\, will be special guest violinist for both groups! Two incredible bands\, perfect for a hot summer night of cool jazz. Cuban rhythms and jazzy soul make for a night of boundary-breaking jazz that will leave you dancing\, dreaming\, and inspired. Show is at Putnam Place\, 63 Putnam St\, Saratoga Springs\, NY 12866 Come early at 6 PM when the doors open for food & music by the Jazz Pebbles! Food options from Mama's Kitchen (Authentic Latin Cuisine) and West Ave Pizza ( Wood-Fired Pizza.)  Schedule: Doors/Food 6 PM Caffè Lena School of Music's Jazz Pebbles 6:00 – 6:30 PM  Main Concert 7 PM ﻿Seating is SOLD OUT but\, there will be STANDING ROOM TICKETS AVAILABLE AT THE DOOR!  PLEASE COME EARLY AS THE STANDING ROOM TICKETS ARE FIRST COME FIRST SERVE. ﻿ \n		\n	\n	\n	\n	\n	\n	\n	\n	\n	\n	\n	\n	\n\n		\n\n	\n		\n	\n						\n					Price\n					\n						General\n						$120.00\n					\n				\n			\n	\n	\n	\n	\n	\n	\n		\n					\n				More Information			\n			\n	\n	\n	\n	\n	\n		\n		\n			Similar Events\n			\n				View All\n				\n			\n		\n				\n			\n				\n\n											\n							\n\n	\n		\n		Caffè Lena\n	\n\n		\n\n		Guitar Workshops with Bruce Thompson\n\n				Bluegrass Instructional Workshop\n		\n		\n			\n				\n								class\n			\n					\n\n		\n			Apr 23 • 9 AM		\n	\n	\n\n\n\n						\n												\n							\n\n	\n		\n		Caffè Lena\n	\n\n		\n\n		Music With Miss Deb\n\n				Family Folk Instructional Storytelling\n		\n		\n			\n				\n								class\n			\n					\n\n		\n			Apr 24 • 9:30 AM		\n	\n	\n\n\n\n						\n												\n							\n\n	\n		\n		Caffè Lena\n	\n\n		\n\n		Clawhammer Banjo with Carolyn Shapiro\n\n				American Roots Instructional\n		\n		\n			\n				\n								class\n			\n					\n\n		\n			Apr 28 • 3 PM
URL:https://www.caffelena.org/event/chuck-lamb-jorge-gomez-cuban-fusion-jazz-collab-ria-curley-soul-jaz-collab/
LOCATION:Putnam Place\, 63 Putnam St\, Saratoga Springs\, 12866\, United States
CATEGORIES:Event
ATTACH;FMTTYPE=image/png:https://www.caffelena.org/wp-content/uploads/2025/06/image-24.png
END:VEVENT
END:VCALENDAR