BEGIN:VCALENDAR
VERSION:2.0
PRODID:-//Caffè Lena - ECPv6.15.18//NONSGML v1.0//EN
CALSCALE:GREGORIAN
METHOD:PUBLISH
X-WR-CALNAME:Caffè Lena
X-ORIGINAL-URL:https://www.caffelena.org
X-WR-CALDESC:Events for Caffè Lena
REFRESH-INTERVAL;VALUE=DURATION:PT1H
X-Robots-Tag:noindex
X-PUBLISHED-TTL:PT1H
BEGIN:VTIMEZONE
TZID:America/New_York
BEGIN:DAYLIGHT
TZOFFSETFROM:-0500
TZOFFSETTO:-0400
TZNAME:EDT
DTSTART:20240310T070000
END:DAYLIGHT
BEGIN:STANDARD
TZOFFSETFROM:-0400
TZOFFSETTO:-0500
TZNAME:EST
DTSTART:20241103T060000
END:STANDARD
BEGIN:DAYLIGHT
TZOFFSETFROM:-0500
TZOFFSETTO:-0400
TZNAME:EDT
DTSTART:20250309T070000
END:DAYLIGHT
BEGIN:STANDARD
TZOFFSETFROM:-0400
TZOFFSETTO:-0500
TZNAME:EST
DTSTART:20251102T060000
END:STANDARD
BEGIN:DAYLIGHT
TZOFFSETFROM:-0500
TZOFFSETTO:-0400
TZNAME:EDT
DTSTART:20260308T070000
END:DAYLIGHT
BEGIN:STANDARD
TZOFFSETFROM:-0400
TZOFFSETTO:-0500
TZNAME:EST
DTSTART:20261101T060000
END:STANDARD
END:VTIMEZONE
BEGIN:VEVENT
DTSTART;TZID=America/New_York:20250806T103000
DTEND;TZID=America/New_York:20250806T110000
DTSTAMP:20260421T081130
CREATED:20250206T151033Z
LAST-MODIFIED:20250617T195936Z
UID:10003791-1754476200-1754478000@www.caffelena.org
SUMMARY:Folk Club Kids
DESCRIPTION:Instructional		\n\n		\n			Share:\n			\n								\n				\n					\n				\n\n				\n				\n					\n				\n\n				\n				\n					\n				\n\n				\n				\n					\n				\n			\n		\n\n	\n	\n	\n	\n	\n	\n	\n	\n	Folk Club Kids: Stories\, Songs\, and Sing-a-longs Wednesdays 10:30 a.m. – 11:00 a.m. https://www.caffelena.org/folk-club-kids/ Stream live and free on Facebook and Youtube! Join Dan Berggren and Drank the Gold’s Oona Grady and James Gascoyne for Folk Club Kids: a free weekly interactive concert series for preschoolers and their caregivers. Children are treated to 30 minutes of live music in a welcoming\, inclusive environment. Inspire a love of music\, community\, and togetherness each week\, learn\, play\, make friends and have fun! This program is made possible by the generous support of Kevin & Claudia Bright. #youthclass \n		\n	\n	\n	\n	\n	\n	\n	\n	\n	\n	\n	\n	\n\n		\n\n	\n		\n	\n						\n					Price\n					\n						General\n						$120.00\n					\n				\n			\n	\n	\n	\n	\n	\n	\n		\n					\n				More Information			\n			\n	\n	\n	\n	\n	\n		\n		\n			Similar Events\n			\n				View All\n				\n			\n		\n				\n			\n				\n\n											\n							\n\n	\n		\n		Caffè Lena\n	\n\n		\n\n		Guitar Workshops with Bruce Thompson\n\n				Bluegrass Instructional Workshop\n		\n		\n			\n				\n								class\n			\n					\n\n		\n			Apr 23 • 9 AM		\n	\n	\n\n\n\n						\n												\n							\n\n	\n		\n		Caffè Lena\n	\n\n		\n\n		Music With Miss Deb\n\n				Family Folk Instructional Storytelling\n		\n		\n			\n				\n								class\n			\n					\n\n		\n			Apr 24 • 9:30 AM		\n	\n	\n\n\n\n						\n												\n							\n\n	\n		\n		Caffè Lena\n	\n\n		\n\n		Clawhammer Banjo with Carolyn Shapiro\n\n				American Roots Instructional\n		\n		\n			\n				\n								class\n			\n					\n\n		\n			Apr 28 • 3 PM
URL:https://www.caffelena.org/event/folk-club-kids/2025-08-06/
LOCATION:Caffè Lena\, 47 Phila Street\, Saratoga Springs\, NY\, 12866\, United States
CATEGORIES:Class
ATTACH;FMTTYPE=image/png:https://www.caffelena.org/wp-content/uploads/2025/02/Untitled-design-6.png
END:VEVENT
BEGIN:VEVENT
DTSTART;TZID=America/New_York:20250806T190000
DTEND;TZID=America/New_York:20250806T210000
DTSTAMP:20260421T081131
CREATED:20250609T162602Z
LAST-MODIFIED:20250814T033741Z
UID:10003801-1754506800-1754514000@www.caffelena.org
SUMMARY:Poetry Open Mic Featuring Mike Jurkovic
DESCRIPTION:American Roots Instructional		\n\n		\n			Share:\n			\n								\n				\n					\n				\n\n				\n				\n					\n				\n\n				\n				\n					\n				\n\n				\n				\n					\n				\n			\n		\n\n	 \n\n\n \n\n\n\n\nMike Jurkovic was named 2025 Ulster County Poet Laureate. He has published poetry\, prose\, and music reviews globally with little reportable income. Jurkovic’s 5 full-length collections include Buckshot Reckoning\,  mooncussers\, AmericanMental\, (Luchador Press 2023\, 2022\, 2020); haiku collections Monet’s Bamboo (CAPS Press\, 2025) Blue Fan Whirring\, (Nirala Press\, 2018) 2016 Pushcart nominee. He is the president of Calling All Poets reading series\, which is celebrating 26 years in the Hudson Valley. You can find his reviews online at All About Jazz and lightwoodpress.com. He hosts NuJazzXcursions\, Monday 9-10:30 am\, WVKR-91.3FM Vassar College.  \n \nStream this show live at CaffeLenaTV. Enjoy two weeks of access with your live stream ticket. \n \n﻿ \n \n \n\n\n\n\n \n\n\n \n \n	\n	\n						\n					Price\n					\n						General\n						$120.00\n					\n				\n			\n	 \n \n	\n					\n				More Information			\n			\n	 \n\n\n \n	\n		\n			Similar Events\n			\n				View All\n				\n			\n		\n				\n			\n				\n\n											\n							\n\n	\n		\n		Caffè Lena\n	\n\n		\n\n		Folk Club Kids\n\n				American Roots Bluegrass Celtic Family Folk\n		\n		\n			\n				\n								class\n			\n					\n\n		\n			Apr 22 • 10:30 AM		\n	\n	\n\n\n\n						\n												\n							\n\n	\n		\n		Caffè Lena\n	\n\n		\n\n		After School Folk Ensemble with James Gascoyne and Oona Grady\n\n				American Roots Bluegrass Celtic Country Folk Workshop\n		\n		\n			\n				\n								class\n			\n					\n\n		\n			Apr 22 • 2:30 PM		\n	\n	\n\n\n\n						\n												\n							\n\n	\n		\n		Caffè Lena\n	\n\n		\n\n		Guitar Workshops with Bruce Thompson\n\n				Bluegrass Instructional Workshop\n		\n		\n			\n				\n								class\n			\n					\n\n		\n			Apr 23 • 9 AM
URL:https://www.caffelena.org/event/poetry-open-mic-featuring-mike-jurkovic/
LOCATION:Caffè Lena\, 47 Phila Street\, Saratoga Springs\, NY\, 12866\, United States
CATEGORIES:Event
ATTACH;FMTTYPE=image/jpeg:https://www.caffelena.org/wp-content/uploads/2025/06/december-3.jpg
END:VEVENT
END:VCALENDAR