BEGIN:VCALENDAR
VERSION:2.0
PRODID:-//Caffè Lena - ECPv6.15.18//NONSGML v1.0//EN
CALSCALE:GREGORIAN
METHOD:PUBLISH
X-ORIGINAL-URL:https://www.caffelena.org
X-WR-CALDESC:Events for Caffè Lena
REFRESH-INTERVAL;VALUE=DURATION:PT1H
X-Robots-Tag:noindex
X-PUBLISHED-TTL:PT1H
BEGIN:VTIMEZONE
TZID:America/New_York
BEGIN:DAYLIGHT
TZOFFSETFROM:-0500
TZOFFSETTO:-0400
TZNAME:EDT
DTSTART:20240310T070000
END:DAYLIGHT
BEGIN:STANDARD
TZOFFSETFROM:-0400
TZOFFSETTO:-0500
TZNAME:EST
DTSTART:20241103T060000
END:STANDARD
BEGIN:DAYLIGHT
TZOFFSETFROM:-0500
TZOFFSETTO:-0400
TZNAME:EDT
DTSTART:20250309T070000
END:DAYLIGHT
BEGIN:STANDARD
TZOFFSETFROM:-0400
TZOFFSETTO:-0500
TZNAME:EST
DTSTART:20251102T060000
END:STANDARD
BEGIN:DAYLIGHT
TZOFFSETFROM:-0500
TZOFFSETTO:-0400
TZNAME:EDT
DTSTART:20260308T070000
END:DAYLIGHT
BEGIN:STANDARD
TZOFFSETFROM:-0400
TZOFFSETTO:-0500
TZNAME:EST
DTSTART:20261101T060000
END:STANDARD
END:VTIMEZONE
BEGIN:VEVENT
DTSTART;TZID=America/New_York:20250212T103000
DTEND;TZID=America/New_York:20250212T110000
DTSTAMP:20260421T134044
CREATED:20250206T155518Z
LAST-MODIFIED:20250211T173614Z
UID:10003354-1739356200-1739358000@www.caffelena.org
SUMMARY:Folk Club Kids
DESCRIPTION:Jazz		\n\n		\n			Share:\n			\n								\n				\n					\n				\n\n				\n				\n					\n				\n\n				\n				\n					\n				\n\n				\n				\n					\n				\n			\n		\n\n	\n	\n	\n	\n	\n	\n	\n	\n	Folk Club Kids: Stories\, Songs\, and Sing-a-longs Wednesdays 10:30 a.m. – 11:00 a.m. https://www.caffelena.org/folk-club-kids/ Join Dan Berggren and Drank the Gold’s Oona Grady and James Gascoyne for Folk Club Kids: a free weekly interactive concert series for preschoolers and their caregivers. Children are treated to 30 minutes of live music in a welcoming\, inclusive environment. Inspire a love of music\, community\, and togetherness each week\, learn\, play\, make friends and have fun! This program is made possible by the generous support of Kevin & Claudia Bright\, and The Charles R. Wood Foundation. \n		\n	\n	\n	\n	\n	\n	\n	\n	\n	\n	\n		\n		Doors Open\n		Doors Open: 7:30 pm	\n	\n	\n\n		\n\n	\n		\n	\n						\n					Price\n					\n						Member\n						$81.34\n					\n				\n							\n					\n					\n						General\n						$92.18\n					\n				\n							\n					\n					\n						Child or Student\n						$46.09\n					\n				\n						\n				 \n				inclusive of fees\n			\n		\n	\n	\n	\n	\n	\n	\n		\n					\n				Get Tickets			\n			\n	\n	\n	\n	\n	\n		\n		\n			Similar Events\n			\n				View All\n				\n			\n		\n				\n			\n				\n\n											\n							\n\n	\n		\n		Caffè Lena\n	\n\n		\n\n		Peak Jazz Series: Charlie Ballantine\n\n				American Roots Folk Jazz\n		\n		\n			\n				\n								event\n			\n					\n\n		\n			Apr 30 • 7 PM		\n	\n	\n\n\n\n						\n												\n							\n\n	\n		\n		Caffè Lena\n	\n\n		\n\n		JAZZ at Caffe Lena : The Chuck Lamb Trio with Special Guest Rob Paparozzi\n\n				Jazz\n		\n		\n			\n				\n								event\n			\n					\n\n		\n			May 12 • 7 PM		\n	\n	\n\n\n\n						\n												\n							\n\n	\n		\n		Caffè Lena\n	\n\n		\n\n		Peak Jazz Series: The Levin Brothers\n\n				Jazz\n		\n		\n			\n				\n								event\n			\n					\n\n		\n			May 28 • 7 PM
URL:https://www.caffelena.org/event/folk-club-kids-2/2025-02-12/
LOCATION:Caffè Lena\, 47 Phila Street\, Saratoga Springs\, NY\, 12866\, United States
CATEGORIES:Class
ATTACH;FMTTYPE=image/jpeg:https://www.caffelena.org/wp-content/uploads/2025/02/FolkClubKids_4Eventbrite_Web_UPDApril2024-1.jpg
END:VEVENT
BEGIN:VEVENT
DTSTART;TZID=America/New_York:20250212T190000
DTEND;TZID=America/New_York:20250212T203000
DTSTAMP:20260421T134044
CREATED:20250204T193315Z
LAST-MODIFIED:20250213T010827Z
UID:10003256-1739386800-1739392200@www.caffelena.org
SUMMARY:Yasmin Williams
DESCRIPTION:Jazz		\n\n		\n			Share:\n			\n								\n				\n					\n				\n\n				\n				\n					\n				\n\n				\n				\n					\n				\n\n				\n				\n					\n				\n			\n		\n\n	\n	\n	\n	\n	\n	\n	\n	\n	Innovative guitarist Yasmin Williams creates mesmerizing soundscapes with percussive fingerstyle\, tapping into experimental folk and jazz. Mesmerizing soundscapes with percussive fingerstyle\, tapping into experimental folk and jazz. “When Yasmin Williams plays guitar\, she conjures new possibilities and stories from the instrument.” – Rolling Stone Acoustic fingerstyle guitarist Yasmin Williams has an unorthodox\, modern style of guitar playing\, using various techniques including alternate tunings\, percussive hits\, and lap tapping in her music to great effect. Williams’ “radiant sound and adventitious origins have made her a key figure in a diverse dawn for the solo guitar” (The New York Times). Her music has been described as rich\, harmonious\, and “in a lot of ways\, the joy and possibility she brings to the guitar reminds me more of Eddie Van Halen than any of the other fingerstyle guitarists to whom she’s compared” (NPR Music). Stream this show live at Caffè Lena TV. Enjoy two weeks of access with your live stream ticket.  \n		\n	\n	\n	\n	\n	\n	\n	\n	\n	\n	\n		\n		Doors Open\n		Doors Open: 6:30 pm	\n	\n	\n\n		\n\n	\n		\n	\n						\n					Price\n					\n						Member\n						$32.53\n					\n				\n							\n					\n					\n						General\n						$36.87\n					\n				\n							\n					\n					\n						Child or Student\n						$18.44\n					\n				\n						\n				 \n				inclusive of fees\n			\n		\n	\n	\n	\n	\n	\n	\n		\n					\n				Get Tickets			\n					\n				Streaming\n			\n			\n	\n	\n	\n	\n	\n		\n		\n			Similar Events\n			\n				View All\n				\n			\n		\n				\n			\n				\n\n											\n							\n\n	\n		\n		Caffè Lena\n	\n\n		\n\n		Peak Jazz Series: Charlie Ballantine\n\n				American Roots Folk Jazz\n		\n		\n			\n				\n								event\n			\n					\n\n		\n			Apr 30 • 7 PM		\n	\n	\n\n\n\n						\n												\n							\n\n	\n		\n		Caffè Lena\n	\n\n		\n\n		JAZZ at Caffe Lena : The Chuck Lamb Trio with Special Guest Rob Paparozzi\n\n				Jazz\n		\n		\n			\n				\n								event\n			\n					\n\n		\n			May 12 • 7 PM		\n	\n	\n\n\n\n						\n												\n							\n\n	\n		\n		Caffè Lena\n	\n\n		\n\n		JAZZ at Caffe Lena : The Chuck Lamb Trio with Special Guest Terell Stafford\n\n				Jazz\n		\n		\n			\n				\n								event\n			\n					\n\n		\n			Jun 9 • 7 PM
URL:https://www.caffelena.org/event/yasmin-williams/
LOCATION:Caffè Lena\, 47 Phila Street\, Saratoga Springs\, NY\, 12866\, United States
CATEGORIES:Event
ATTACH;FMTTYPE=image/jpeg:https://www.caffelena.org/wp-content/uploads/2025/02/https-cdn.evbuc_.com-images-879061769-286549551536-1-original.20241020-131536.jpeg
END:VEVENT
END:VCALENDAR